BEGIN:VCALENDAR
VERSION:2.0
PRODID:-//ChamberMaster//Event Calendar 2.0//EN
METHOD:PUBLISH
X-PUBLISHED-TTL:P3D
REFRESH-INTERVAL:P3D
CALSCALE:GREGORIAN
BEGIN:VEVENT
DTSTART:20160310T013000Z
DTEND:20160310T043000Z
X-MICROSOFT-CDO-ALLDAYEVENT:FALSE
SUMMARY:Membership Mixer
DESCRIPTION:The March Member Mixer will be at the\n\n\n\nOak House Office Building\n\n744 Oak Street\n\nPaso Robles\, CA 93446\n\n\n\nWine will be provided by Sculpterra Winery.\n\n\n\nHonoring our Roblan of the Month\, Hugh Pitts
X-ALT-DESC;FMTTYPE=text/html:<br />\n<span style="line-height: 20.8px\;">The March Member Mixer will be at the<br />\n<br />\nOak House Office Building</span><br style="line-height: 20.8px\;" />\n<span style="line-height: 20.8px\;">744 Oak Street</span><br style="line-height: 20.8px\;" />\n<span style="line-height: 20.8px\;">Paso Robles\, CA 93446<br />\n<br />\nWine will be provided by Sculpterra Winery.<br />\n<br />\nHonoring our Roblan of the Month\, Hugh Pitts</span>
LOCATION:Oak House Office Building 744 Oak Street Paso Robles\, CA 93446
UID:e.2488.4487
SEQUENCE:3
DTSTAMP:20260424T205227Z
URL:https://business.pasorobleschamber.com/events/details/membership-mixer-03-09-2016-4487
END:VEVENT

END:VCALENDAR
