BEGIN:VCALENDAR
VERSION:2.0
PRODID:-//ChamberMaster//Event Calendar 2.0//EN
METHOD:PUBLISH
X-PUBLISHED-TTL:P3D
REFRESH-INTERVAL:P3D
CALSCALE:GREGORIAN
BEGIN:VEVENT
DTSTART:20160609T003000Z
DTEND:20160609T023000Z
X-MICROSOFT-CDO-ALLDAYEVENT:FALSE
SUMMARY:Membership Mixer
DESCRIPTION:Celebrate summer with us at a Membership Mixer on the patio at Paso Robles Inn!\n\n\n\nEnjoy food by Paso Robles Inn's Steakhouse and wines by Broken Earth Winery.\n\n\n\nHelp us honor the Roblan of the Month\, Cherie Michaelson\, and the Community Oriented Business of the Month\, Paso Robles Waste & Recycle.
X-ALT-DESC;FMTTYPE=text/html:Celebrate summer with us at a Membership Mixer on the patio at Paso Robles Inn!<br />\n<br />\nEnjoy food by Paso Robles Inn&#39\;s Steakhouse and wines by Broken Earth Winery.<br />\n<br />\nHelp us honor the Roblan of the Month\,&nbsp\;Cherie Michaelson\, and the Community Oriented Business of the Month\, Paso Robles Waste &amp\; Recycle.
LOCATION:Paso Robles Inn 1103 Spring Street Paso Robles\, CA
UID:e.2488.4633
SEQUENCE:3
DTSTAMP:20260422T214947Z
URL:https://business.pasorobleschamber.com/events/details/membership-mixer-06-08-2016-4633
END:VEVENT

END:VCALENDAR
