BEGIN:VCALENDAR
VERSION:2.0
PRODID:-//ChamberMaster//Event Calendar 2.0//EN
METHOD:PUBLISH
X-PUBLISHED-TTL:P3D
REFRESH-INTERVAL:P3D
CALSCALE:GREGORIAN
BEGIN:VEVENT
DTSTART:20161013T003000Z
DTEND:20161013T023000Z
X-MICROSOFT-CDO-ALLDAYEVENT:FALSE
SUMMARY:Membership Mixer
DESCRIPTION:Join us for a Membership Mixer hosted by Earth and Fire Brewing Company on Wednesday\, October 12th at 5:30pm!
X-ALT-DESC;FMTTYPE=text/html:Join us for a Membership Mixer hosted by Earth and Fire Brewing Company&nbsp\;on Wednesday\, October 12th&nbsp\;at 5:30pm!
LOCATION:Earth and Fire Brewing Company 825 Riverside Avenue\, Suite 1 Paso Robles\, CA 93446
UID:e.2488.4647
SEQUENCE:3
DTSTAMP:20260421T042004Z
URL:https://business.pasorobleschamber.com/events/details/membership-mixer-10-12-2016-4647
END:VEVENT

END:VCALENDAR
