BEGIN:VCALENDAR
VERSION:2.0
PRODID:-//ChamberMaster//Event Calendar 2.0//EN
METHOD:PUBLISH
X-PUBLISHED-TTL:P3D
REFRESH-INTERVAL:P3D
CALSCALE:GREGORIAN
BEGIN:VEVENT
DTSTART:20160915T003000Z
DTEND:20160915T020000Z
X-MICROSOFT-CDO-ALLDAYEVENT:FALSE
SUMMARY:Membership Mixer
DESCRIPTION:Join us for a Membership Mixer co-hosted by Changala Winery and Paso Catering on Wednesday\, September14th at 5:30pm!
X-ALT-DESC;FMTTYPE=text/html:Join us for a Membership Mixer co-hosted by Changala Winery and Paso Catering on Wednesday\, September14th at 5:30pm!
LOCATION:Changala Winery 3770 Willow Creek Rd Paso Robles\, CA 93446
UID:e.2488.4644
SEQUENCE:3
DTSTAMP:20260420T205925Z
URL:https://business.pasorobleschamber.com/events/details/membership-mixer-4644
END:VEVENT

END:VCALENDAR
