BEGIN:VCALENDAR
VERSION:2.0
PRODID:-//ChamberMaster//Event Calendar 2.0//EN
METHOD:PUBLISH
X-PUBLISHED-TTL:P3D
REFRESH-INTERVAL:P3D
CALSCALE:GREGORIAN
BEGIN:VEVENT
DTSTART:20161209T000000Z
DTEND:20161209T030000Z
X-MICROSOFT-CDO-ALLDAYEVENT:FALSE
SUMMARY:Meritage Asset Management Holiday Party
DESCRIPTION:Paso Chamber Members are welcome to attend!\n\nThursday\, December 8\n\n4-7pm (Open House)\n\n104 Gateway Center Drive\, Suite A\n\nPaso Robles\, CA 93446
X-ALT-DESC;FMTTYPE=text/html:<h2 style="font-style: italic\; text-align: center\;"><span style="font-family:tahoma"><strong>Paso Chamber Members are welcome to attend!<br />\nThursday\, December 8<br />\n4-7pm (Open House)<br />\n104 Gateway Center Drive\, Suite A<br />\nPaso Robles\, CA 93446</strong></span></h2>\n
LOCATION:
UID:e.2488.5659
SEQUENCE:3
DTSTAMP:20260424T032717Z
URL:https://business.pasorobleschamber.com/events/details/meritage-asset-management-holiday-party-5659
END:VEVENT

END:VCALENDAR
