BEGIN:VCALENDAR
VERSION:2.0
PRODID:-//ChamberMaster//Event Calendar 2.0//EN
METHOD:PUBLISH
X-PUBLISHED-TTL:P3D
REFRESH-INTERVAL:P3D
CALSCALE:GREGORIAN
BEGIN:VEVENT
DTSTART:20240726T190000Z
DTEND:20240726T200000Z
X-MICROSOFT-CDO-ALLDAYEVENT:FALSE
SUMMARY:Midday Mini-Concert: Goodyear & Novacek
DESCRIPTION:Pianists John Novacek (Artist-in-Residence) and Stewart Goodyear will co-host this mini-recital of works for the piano. Each of them will perform some solo selections and the afternoon will finish with a duet for both pianists!\n\n \n\nBRAHMS - Hungarian Dances Nos. 1\, 4 and 5 (arr. for piano four-hands)\n\nNOVACEK - Impromptu on 'Esterllita'\n\nNOVACEK - Two Rags\n\nGOODYEAR - Selection for solo piano\n\nRACHMANINOFF - Suite No. 2 for two pianos\, III. Romance\n\nMILHAUD - Brazileira from Scaramouche
X-ALT-DESC;FMTTYPE=text/html:<div>Pianists John Novacek (Artist-in-Residence) and Stewart Goodyear will co-host this mini-recital of works for the piano. Each of them will perform some solo selections and the afternoon will finish with a duet for both pianists!</div>\n\n<div>&nbsp\;</div>\n\n<div>BRAHMS - Hungarian Dances Nos. 1\, 4 and 5 (arr. for piano four-hands)<br />\nNOVACEK - Impromptu on &#39\;Esterllita&#39\;<br />\nNOVACEK - Two Rags<br />\nGOODYEAR - Selection for solo piano<br />\nRACHMANINOFF - Suite No. 2 for two pianos\,&nbsp\;III. Romance<br />\nMILHAUD - Brazileira from&nbsp\;<em>Scaramouche</em></div>\n
LOCATION:Harold J. Miossi Cultural and Performing Arts Center Cuesta College Hollister Road at Highway 1 San Luis Obispo\, CA 93405
UID:e.2488.15441
SEQUENCE:3
DTSTAMP:20260422T210532Z
URL:https://business.pasorobleschamber.com/events/details/midday-mini-concert-goodyear-novacek-15441
END:VEVENT

END:VCALENDAR
