BEGIN:VCALENDAR
VERSION:2.0
PRODID:-//ChamberMaster//Event Calendar 2.0//EN
METHOD:PUBLISH
X-PUBLISHED-TTL:P3D
REFRESH-INTERVAL:P3D
CALSCALE:GREGORIAN
BEGIN:VEVENT
DTSTART:20160507T153000Z
DTEND:20160507T193000Z
X-MICROSOFT-CDO-ALLDAYEVENT:FALSE
SUMMARY:Miracle Miles for Kids
DESCRIPTION:Come join Family Care Network in a walk/run on the beach from Morro Rock to Cayucos Pier. When you cross that finish line\, you will know that you just made someone's life better. All proceeds benefit children and families impacted by trauma on the Central Coast.
X-ALT-DESC;FMTTYPE=text/html:Come join Family Care Network in a walk/run on the beach from Morro Rock to Cayucos Pier. When you cross that finish line\, you will know that you just made someone&#39\;s life better. All proceeds benefit children and families impacted by trauma on the Central Coast.
LOCATION:Morro Rock to Cayucos Pier
UID:e.2488.4498
SEQUENCE:3
DTSTAMP:20260424T155110Z
URL:https://business.pasorobleschamber.com/events/details/miracle-miles-for-kids-05-07-2016-4498
END:VEVENT

END:VCALENDAR
