BEGIN:VCALENDAR
VERSION:2.0
PRODID:-//ChamberMaster//Event Calendar 2.0//EN
METHOD:PUBLISH
X-PUBLISHED-TTL:P3D
REFRESH-INTERVAL:P3D
CALSCALE:GREGORIAN
BEGIN:VEVENT
DTSTART:20160911T010000Z
DTEND:20160912T030000Z
X-MICROSOFT-CDO-ALLDAYEVENT:FALSE
SUMMARY:Mitchella Lobster Fest
DESCRIPTION:Enjoy a "hands on" feast of shrimp\, artichoke\, corn on the cob\, sausage\, and potatoes spread out in classic New England style in the middle of the table topped off with a 2   2   pound fresh Maine Lobster\, and a glass of wine. Complete with dipping sauces and crusty bread. Seating is limited and reservations are required.\n\n$80 pp (Wine Club limit 2)\, $100 pp. Purchase tickets here.\n\nTickets are not refundable because this event sells out every year. We will make every effort to find a buyer for your seats. Thank you.
X-ALT-DESC;FMTTYPE=text/html:<p>Enjoy a &ldquo\;hands on&rdquo\; feast of shrimp\, artichoke\, corn on the cob\, sausage\, and potatoes spread out in classic New England style in the middle of the table topped off with a 2 &ndash\; 2 &frac12\; pound fresh Maine Lobster\, and a glass of wine. Complete with dipping sauces and crusty bread. Seating is limited and reservations are required.</p>\n\n<p>$80 pp (Wine Club limit 2)\, $100 pp. Purchase tickets <a href="http://www.mitchella.com/events/index.php?id=60">here</a>.</p>\n\n<p>Tickets are not refundable because this event sells out every year. We will make every effort to find a buyer for your seats. Thank you.</p>\n
LOCATION:Mitchella Vineyard & Winery 2525 Mitchell Ranch Way Paso Robles\, CA 93446
UID:e.2488.4852
SEQUENCE:3
DTSTAMP:20260424T075102Z
URL:https://business.pasorobleschamber.com/events/details/mitchella-lobster-fest-09-10-2016-4852
END:VEVENT

END:VCALENDAR
