BEGIN:VCALENDAR
VERSION:2.0
PRODID:-//ChamberMaster//Event Calendar 2.0//EN
METHOD:PUBLISH
X-PUBLISHED-TTL:P3D
REFRESH-INTERVAL:P3D
CALSCALE:GREGORIAN
BEGIN:VEVENT
DTSTART;VALUE=DATE:20170311
DTEND;VALUE=DATE:20170312
TRANSP:TRANSPARENT
X-MICROSOFT-CDO-ALLDAYEVENT:TRUE
SUMMARY:Morgan Leatherwood in Concert at Asuncion Ridge Tasting Room from 5:00 - 8:00 p.m. Jill Knight Band at The Barrelhouse at 5:30 p.m. Bobby Santa Cruz at The Paso Inn at 9:30 p.m. Five Parts Devil at The Pour House from 8:30 - 11:30 p.m.
DESCRIPTION:
X-ALT-DESC;FMTTYPE=text/html:
LOCATION:
UID:e.2488.6105
SEQUENCE:3
DTSTAMP:20260423T225053Z
URL:https://business.pasorobleschamber.com/events/details/morgan-leatherwood-in-concert-at-asuncion-ridge-tasting-room-from-5-00-8-00-p-m-jill-knight-band-at-the-barrelhouse-at-5-30-p-m-bobby-santa-cruz-at-the-paso-inn-at-9-30-p-m-five-parts-devil-at-the-pour-house-from-8-30-11-30-p-m-6105
END:VEVENT

END:VCALENDAR
