BEGIN:VCALENDAR
VERSION:2.0
PRODID:-//ChamberMaster//Event Calendar 2.0//EN
METHOD:PUBLISH
X-PUBLISHED-TTL:P3D
REFRESH-INTERVAL:P3D
CALSCALE:GREGORIAN
BEGIN:VEVENT
DTSTART:20260510T170000Z
DTEND:20260511T000000Z
X-MICROSOFT-CDO-ALLDAYEVENT:FALSE
SUMMARY:Mother's Day at Hamby Lavender Farm
DESCRIPTION:Mother's Day Opening Day at Hambly Lavender Farm Sunday\, May 10\, 2026 | San Miguel\, CA Celebrate Mother's Day in the lavender fields at Hambly Lavender Farm\, just north of Paso Robles. Opening Day marks the start of lavender season   a relaxed\, family-friendly experience designed to help you slow down and enjoy time together. Wander blooming rows\, harvest your own lavender bouquet\, visit friendly farm animals\, and take in open views of California's Central Coast. Opening Day Highlights: Complimentary LeoLeo Honey Lavender Gelato for the first 40 moms Lavender U-Pick included with admission Meet new piggies\, goats\, and chickens Farm store featuring small-batch lavender gifts Mother's Day Visit Options: Lavender U-Pick (10am 5pm) Self-guided and flexible   wander the fields at your own pace $20 per person (kids under 10 free) Guided Farm Experience (10:00 am) Join a relaxed\, one-hour walk with farmer Milton Hambly and learn how lavender is grown\, harvested\, and distilled $30 per person Reserve your Lavender U-Pick Day Pass by April 30 and receive a complimentary make-and-take sachet during your visit   a hands-on way to bring the farm home with you. Workshops and peak-season visits often fill quickly\, especially on holiday weekends\, so we recommend reserving in advance. ? Reserve your visit: https://hamblyfarms.com/visit-the-farm
X-ALT-DESC;FMTTYPE=text/html:Mother&rsquo\;s Day Opening Day at Hambly Lavender Farm Sunday\, May 10\, 2026 | San Miguel\, CA Celebrate Mother&rsquo\;s Day in the lavender fields at Hambly Lavender Farm\, just north of Paso Robles. Opening Day marks the start of lavender season &mdash\; a relaxed\, family-friendly experience designed to help you slow down and enjoy time together. Wander blooming rows\, harvest your own lavender bouquet\, visit friendly farm animals\, and take in open views of California&rsquo\;s Central Coast. Opening Day Highlights: Complimentary LeoLeo Honey Lavender Gelato for the first 40 moms Lavender U-Pick included with admission Meet new piggies\, goats\, and chickens Farm store featuring small-batch lavender gifts Mother&rsquo\;s Day Visit Options: Lavender U-Pick (10am&ndash\;5pm) Self-guided and flexible &mdash\; wander the fields at your own pace $20 per person (kids under 10 free) Guided Farm Experience (10:00 am) Join a relaxed\, one-hour walk with farmer Milton Hambly and learn how lavender is grown\, harvested\, and distilled $30 per person Reserve your Lavender U-Pick Day Pass by April 30 and receive a complimentary make-and-take sachet during your visit &mdash\; a hands-on way to bring the farm home with you. Workshops and peak-season visits often fill quickly\, especially on holiday weekends\, so we recommend reserving in advance. ? Reserve your visit: https://hamblyfarms.com/visit-the-farm
LOCATION:Hambly Farms
UID:e.2488.20099
SEQUENCE:3
DTSTAMP:20260421T002745Z
URL:https://business.pasorobleschamber.com/events/details/mother-s-day-at-hamby-lavender-farm-20099
END:VEVENT

END:VCALENDAR
