BEGIN:VCALENDAR
VERSION:2.0
PRODID:-//ChamberMaster//Event Calendar 2.0//EN
METHOD:PUBLISH
X-PUBLISHED-TTL:P3D
REFRESH-INTERVAL:P3D
CALSCALE:GREGORIAN
BEGIN:VEVENT
DTSTART:20230514T183000Z
DTEND:20230514T220000Z
X-MICROSOFT-CDO-ALLDAYEVENT:FALSE
SUMMARY:Mother's Day Brunch at Le Vigne Winery
DESCRIPTION:Join us for our Mother's Day Brunch on May 14th. Includes an appetizer\, choice of entr e\, and dessert. Don't forget also a glass of Mimosa. Make your reservations today!\n\n \n\nMake reservations: Website (levignewinery.com)\, Email (reservations@levignewinery.com)\, or Call (805.227.4000)\n\n\n\nTickets are $35 for members and $45 for non-members.\n\n\n\nMENU\n\n\n\nAppetizer:\n\nSTUZZICHINO DAL FORNO DI WALTER\n\nPuff Pastry Surprise From Chef Walter's Oven.\n\n\n\nChoice Of One Entree:\n\nUOVA ORGANICHE ALL BENEDETTINA\n\nTraditional Poached Orgnanic Eggs\, Prosciutto Cotto\, and Warm Hollandaise Sauce.\n\nOR\n\nLASAGNA CASARECCIA DI MAMMA IOLE\n\nMama Iole's Recipe Homemade Lasagna Bolognese.\n\nOR\n\nFETTUCCINE 3 COLORI CON CREMA\, PANCETTA AFFUMICATA E ASPARAGI\n\nFresh Tricolor Pasta With Roasted Bacon\, Asparagus\, and Alfredo Sauce.\n\nOR\n\nFOCACCIA PROSCIUTTO DI PARMA\, FRESH BUFALA MOZZARELLA\, AND POMODORI DI GIARDINO\n\nPizza Bread\, Thinly Sliced Prosciutto Di Parma\, Fresh Bufala Mozzarella\, and Sliced Heirloom Tomatoes.\n\n\n\nDessert:\n\nZEPPOLE NAPOLETANE CON RICOTTA AL FIORE AND LAMPONI\n\nItalian Donut filled With Handmade Ricotta\, and Fresh Raspberries.
X-ALT-DESC;FMTTYPE=text/html:<div>Join us for our Mother&#39\;s Day Brunch on May 14th. Includes an appetizer\, choice of entr&eacute\;e\, and dessert. Don&rsquo\;t forget also a glass of Mimosa. Make your reservations today!<br />\n&nbsp\;</div>\n\n<div>Make reservations: Website (<a class="x1i10hfl xjbqb8w x6umtig x1b1mbwd xaqea5y xav7gou x9f619 x1ypdohk xt0psk2 xe8uvvx xdj266r x11i5rnm xat24cr x1mh8g0r xexx8yu x4uap5 x18d9i69 xkhd6sd x16tdsg8 x1hl2dhg xggy1nq x1a2a7pz xt0b8zv x1fey0fg" href="https://l.facebook.com/l.php?u=http%3A%2F%2Flevignewinery.com%2F%3Ffbclid%3DIwAR1A3ArWqHSovu6rjQWBPA8us0seHKXClfpN6uqG__gxi-Hr_M65JfhmJgU&amp\;h=AT2oSuaPVxk38Y0dfmXMBIYfi51F3aqh-inyOuDpeV2RIQ0WYxWCUqgWAD_QDFBZ0N5HEAbLnFw7dciKcTSnkq_bbVHyxGDIMRMlweL1Ui4GTr2jiu17TBdZgbUrK0yI6aOL&amp\;__tn__=q&amp\;c[0]=AT3UeDlrt5ZApTjdA1l9GyNov7oNWonlN-Cf_-Q1S9iDvusSSiQQM1FxPCsqVu6WvhabHJCJeOko1xjZMfCT5os8D7Dic8_giptnXF63T2NOwLhYkts3PSPS89xiowFya2rWqH1A-dwjcmMc28zrEFwb8IWa" rel="nofollow noopener" style="color: var(--blue-link)\; cursor: pointer\; text-decoration-line: none\; margin: 0px\; text-align: inherit\; padding: 0px\; outline: none\; border-width: 0px\; border-style: initial\; border-color: initial\; -webkit-tap-highlight-color: transparent\; box-sizing: border-box\; list-style: none\; touch-action: manipulation\; background-color: transparent\; display: inline\; font-family: inherit\;" tabindex="0" target="_blank">levignewinery.com</a>)\, Email (reservations@levignewinery.com)\, or Call (805.227.4000)</div>\n\n<div><br />\nTickets are $35 for members and $45 for non-members.</div>\n\n<div><br />\nMENU</div>\n\n<div><br />\nAppetizer:<br />\nSTUZZICHINO DAL FORNO DI WALTER<br />\nPuff Pastry Surprise From Chef Walter&rsquo\;s Oven.</div>\n\n<div><br />\nChoice Of One Entree:<br />\nUOVA ORGANICHE ALL BENEDETTINA<br />\nTraditional Poached Orgnanic Eggs\, Prosciutto Cotto\, and Warm Hollandaise Sauce.<br />\nOR<br />\nLASAGNA CASARECCIA DI MAMMA IOLE<br />\nMama Iole&rsquo\;s Recipe Homemade Lasagna Bolognese.<br />\nOR<br />\nFETTUCCINE 3 COLORI CON CREMA\, PANCETTA AFFUMICATA E ASPARAGI<br />\nFresh Tricolor Pasta With Roasted Bacon\, Asparagus\, and Alfredo Sauce.<br />\nOR<br />\nFOCACCIA PROSCIUTTO DI PARMA\, FRESH BUFALA MOZZARELLA\, AND POMODORI DI GIARDINO<br />\nPizza Bread\, Thinly Sliced Prosciutto Di Parma\, Fresh Bufala Mozzarella\, and Sliced Heirloom Tomatoes.</div>\n\n<div><br />\nDessert:<br />\nZEPPOLE NAPOLETANE CON RICOTTA AL FIORE AND LAMPONI<br />\nItalian Donut filled With Handmade Ricotta\, and Fresh Raspberries.</div>\n
LOCATION:Le Vigne Winery 5115 Buena Vista Drive Paso Robles\, CA 93446
UID:e.2488.14092
SEQUENCE:3
DTSTAMP:20260422T000213Z
URL:https://business.pasorobleschamber.com/events/details/mother-s-day-brunch-at-le-vigne-winery-14092
END:VEVENT

END:VCALENDAR
