BEGIN:VCALENDAR
VERSION:2.0
PRODID:-//ChamberMaster//Event Calendar 2.0//EN
METHOD:PUBLISH
X-PUBLISHED-TTL:P3D
REFRESH-INTERVAL:P3D
CALSCALE:GREGORIAN
BEGIN:VEVENT
DTSTART;VALUE=DATE:20180513
DTEND;VALUE=DATE:20180514
TRANSP:TRANSPARENT
X-MICROSOFT-CDO-ALLDAYEVENT:TRUE
SUMMARY:Mother's Day Menu @Golden Oak Grill
DESCRIPTION:The Golden Oak Grill will be serving a special menu to Celebrate Mother's Day!\n\n\n\nCome and enjoy our delicious food we have in store for you and your whole family.
X-ALT-DESC;FMTTYPE=text/html:The Golden Oak Grill will be serving a special menu to Celebrate Mother&#39\;s Day!<br />\n<br />\nCome and enjoy our delicious food we have in store for you and your whole family.
LOCATION:1487 Creston Rd PASO ROBLES (805) 286-4482
UID:e.2488.9167
SEQUENCE:3
DTSTAMP:20260421T235333Z
URL:https://business.pasorobleschamber.com/events/details/mother-s-day-menu-golden-oak-grill-9167
END:VEVENT

END:VCALENDAR
