BEGIN:VCALENDAR
VERSION:2.0
PRODID:-//ChamberMaster//Event Calendar 2.0//EN
METHOD:PUBLISH
X-PUBLISHED-TTL:P3D
REFRESH-INTERVAL:P3D
CALSCALE:GREGORIAN
BEGIN:VEVENT
DTSTART:20180513T170000Z
DTEND:20180513T210000Z
X-MICROSOFT-CDO-ALLDAYEVENT:FALSE
SUMMARY:Mothers Day Brunch Buffet
DESCRIPTION:Farmstead Kitchen Presents \n\nMother's Day Brunch Buffet\n\nFresh Egg Strata\n\nApple Smoked Bacon ~ Sausage Patties\n\nOmelets to Order ~ Eggs Benedict to Order\n\nSmoked Salmon Platter with Bagels and Traditional Condiments\n\nFresh Fruit Platter\n\nBailey's Brioche French Toast with Maple Syrup\n\nHam Carving Station with Syrah Mustard Sauce and Local Honey Glaze\n\nMorro Bay Rock Cod with Chardonnay Cream & Red Pepper Aioli\n\nMary's Organic Chicken with Mushroom Marsala Sauce\n\nMixed Green Salad with Local Strawberries\, Feta and Berry Vinaigrette\n\nGrilled Asparagus with Roasted Shallot and Fava Beans\n\nFresh Baked Scones and Muffins\n\nDessert Table with Mini Chocolate Cakes\, Mini Apple Crisps and Strawberry Shortcakes\n\n$35 Per Adult ~ $15 Children under 12 ~ Add $10 for Champagne Brunch
X-ALT-DESC;FMTTYPE=text/html:<div style="text-align: center\;"><strong><em><span style="color:#FF0066"><span style="font-family:comic sans ms"><span style="font-size:16.0pt">Farmstead Kitchen Presents </span></span></span></em></strong><br />\n<strong><span style="color:#FF0066"><span style="font-family:comic sans ms"><span style="font-size:16.0pt">Mother&rsquo\;s Day Brunch Buffet</span></span></span></strong><br />\n<span style="font-family:comic sans ms">Fresh Egg Strata</span><br />\n<span style="font-family:comic sans ms">Apple Smoked Bacon ~ Sausage Patties</span><br />\n<span style="font-family:comic sans ms">Omelets to Order ~ Eggs Benedict to Order</span><br />\n<span style="font-family:comic sans ms">Smoked Salmon Platter with Bagels and Traditional Condiments</span><br />\n<span style="font-family:comic sans ms">Fresh Fruit Platter</span><br />\n<span style="font-family:comic sans ms">Bailey&rsquo\;s Brioche French Toast with Maple Syrup</span><br />\n<span style="font-family:comic sans ms">Ham Carving Station with Syrah Mustard Sauce and Local Honey Glaze</span><br />\n<span style="font-family:comic sans ms">Morro Bay Rock Cod with Chardonnay Cream &amp\; Red Pepper Aioli</span><br />\n<span style="font-family:comic sans ms">Mary&rsquo\;s Organic Chicken with Mushroom Marsala Sauce</span><br />\n<span style="font-family:comic sans ms">Mixed Green Salad with Local Strawberries\, Feta and Berry Vinaigrette</span><br />\n<span style="font-family:comic sans ms">Grilled Asparagus with Roasted Shallot and Fava Beans</span><br />\n<span style="font-family:comic sans ms">Fresh Baked Scones and Muffins</span><br />\n<span style="font-family:comic sans ms">Dessert Table with Mini Chocolate Cakes\, Mini Apple Crisps and Strawberry Shortcakes</span><br />\n<strong><span style="color:#FF0066"><span style="font-family:comic sans ms"><span style="font-size:12.0pt">$35 Per Adult ~ $15 Children under 12 ~ Add $10 for Champagne Brunch</span></span></span></strong></div>\n
LOCATION:Farmstead Kitchen and Catering 1344 Park Street Paso Robles\, CA 93446
UID:e.2488.9153
SEQUENCE:3
DTSTAMP:20260421T111828Z
URL:https://business.pasorobleschamber.com/events/details/mothers-day-brunch-buffet-9153
END:VEVENT

END:VCALENDAR
