BEGIN:VCALENDAR
VERSION:2.0
PRODID:-//ChamberMaster//Event Calendar 2.0//EN
METHOD:PUBLISH
X-PUBLISHED-TTL:P3D
REFRESH-INTERVAL:P3D
CALSCALE:GREGORIAN
BEGIN:VEVENT
DTSTART:20251119T000000Z
DTEND:20251119T020000Z
X-MICROSOFT-CDO-ALLDAYEVENT:FALSE
SUMMARY:NACE To Meet You: Cheers to the Season!
DESCRIPTION:Presented by SLO Safe Ride and Cal Poly RPTA 210 Class The holidays are calling\, and we're answering with a festive night at Cass Winery that celebrates connection\, collaboration\, and a dash of holiday cheer. Through our EIM Program partnership\, we've partnered with the talented students of Cal Poly SLO's RPTA 210 Class to bring this event to life planned\, produced\, and executed by our future event leaders. Get ready to mix\, mingle\, and make memories at Camp Cass\, where the night will be full of hands-on fun: Cooking demos with Chef Charlie Archery and Color War games Mocktail bar by Gar-Niche Interactive photobooth Grazing table by the incomparable Chef Charlie of Cass Winery Add music\, merriment\, and a backdrop of rolling vineyards\, and you've got the perfect start to the holiday season. Event Details Date: November 18 | Time: 4 6 PM Location: Cass Winery Event Center Transportation: Complimentary transportation provided by SLO Safe Ride from the Paso Robles Target parking lot. Please be sure to select a transportation ticket when registering to reserve your seat. Grab your colleagues\, dust off your festive flair\, and join us as we cheers to the season in true NACE style!
X-ALT-DESC;FMTTYPE=text/html:Presented by SLO Safe Ride and Cal Poly RPTA 210 Class The holidays are calling\, and we&rsquo\;re answering&mdash\;with a festive night at Cass Winery that celebrates connection\, collaboration\, and a dash of holiday cheer. Through our EIM Program partnership\, we&rsquo\;ve partnered with the talented students of Cal Poly SLO&rsquo\;s RPTA 210 Class to bring this event to life&mdash\;planned\, produced\, and executed by our future event leaders. Get ready to mix\, mingle\, and make memories at Camp Cass\, where the night will be full of hands-on fun: Cooking demos with Chef Charlie Archery and Color War games Mocktail bar by Gar-Niche Interactive photobooth Grazing table by the incomparable Chef Charlie of Cass Winery Add music\, merriment\, and a backdrop of rolling vineyards\, and you&rsquo\;ve got the perfect start to the holiday season. Event Details Date: November 18 | Time: 4&ndash\;6 PM Location: Cass Winery Event Center Transportation: Complimentary transportation provided by SLO Safe Ride from the Paso Robles Target parking lot. Please be sure to select a transportation ticket when registering to reserve your seat. Grab your colleagues\, dust off your festive flair\, and join us as we cheers to the season in true NACE style!
LOCATION:Cass Winery
UID:e.2488.19915
SEQUENCE:3
DTSTAMP:20260421T022423Z
URL:https://business.pasorobleschamber.com/events/details/nace-to-meet-you-cheers-to-the-season-19915
END:VEVENT

END:VCALENDAR
