BEGIN:VCALENDAR
VERSION:2.0
PRODID:-//ChamberMaster//Event Calendar 2.0//EN
METHOD:PUBLISH
X-PUBLISHED-TTL:P3D
REFRESH-INTERVAL:P3D
CALSCALE:GREGORIAN
BEGIN:VEVENT
DTSTART:20250819T170000Z
DTEND:20250819T183000Z
X-MICROSOFT-CDO-ALLDAYEVENT:FALSE
SUMMARY:Nature Journaling at the SLO Botanical Garden
DESCRIPTION:Enjoy a morning of quiet observation\, sketching and inspired curiosity about plants\, pollinators and all the natural beauty that thrives at the SLO Botanical Garden. This experience will be guided by Mary Sturm of the Central Coast Nature Journal Club. No experience required. Participants will need to bring their own blank\, lined journal and a pen or pencil.
X-ALT-DESC;FMTTYPE=text/html:Enjoy a morning of quiet observation\, sketching and inspired curiosity about plants\, pollinators and all the natural beauty that thrives at the SLO Botanical Garden. This experience will be guided by Mary Sturm of the Central Coast Nature Journal Club. No experience required. Participants will need to bring their own blank\, lined journal and a pen or pencil.
LOCATION:San Luis Obispo Botanical Garden 3450 Dairy Creek Road San Luis Obispo\, CA 93405
UID:e.2488.19839
SEQUENCE:3
DTSTAMP:20260421T063729Z
URL:https://business.pasorobleschamber.com/events/details/nature-journaling-at-the-slo-botanical-garden-19839
END:VEVENT

END:VCALENDAR
