BEGIN:VCALENDAR
VERSION:2.0
PRODID:-//ChamberMaster//Event Calendar 2.0//EN
METHOD:PUBLISH
X-PUBLISHED-TTL:P3D
REFRESH-INTERVAL:P3D
CALSCALE:GREGORIAN
BEGIN:VEVENT
DTSTART:20160527T003000Z
DTEND:20160527T020000Z
X-MICROSOFT-CDO-ALLDAYEVENT:FALSE
SUMMARY:NCYP Business Bingo
DESCRIPTION:Join us for the 2nd Annual Business Bingo Networking Mixer on Thursday\, May 26th from 5:30pm to 7pm!
X-ALT-DESC;FMTTYPE=text/html:Join us for the 2nd Annual Business Bingo Networking Mixer on Thursday\, May 26th from 5:30pm to 7pm!
LOCATION:Grape Encounters Empourium 5816 Traffic Way\, Atascadero
UID:e.2488.4741
SEQUENCE:3
DTSTAMP:20260424T155311Z
URL:https://business.pasorobleschamber.com/events/details/ncyp-business-bingo-05-26-2016-4741
END:VEVENT

END:VCALENDAR
