BEGIN:VCALENDAR
VERSION:2.0
PRODID:-//ChamberMaster//Event Calendar 2.0//EN
METHOD:PUBLISH
X-PUBLISHED-TTL:P3D
REFRESH-INTERVAL:P3D
CALSCALE:GREGORIAN
BEGIN:VEVENT
DTSTART:20180303T200000Z
DTEND:20180304T010000Z
X-MICROSOFT-CDO-ALLDAYEVENT:FALSE
SUMMARY:New Olive Oil Release & Spring Party at Olivas de Oro
DESCRIPTION:Everyone is welcome to join our spring party! We are releasing our new olive oils\, and club member can pick up their club shipments. Non Club lunch is $15\, and free for club members and a Guest (so join today!). We will have live music\, samples of our fun olive oils\, vinegars\, ranch products and more.\n\nRSVP recommended not required
X-ALT-DESC;FMTTYPE=text/html:Everyone is welcome to join our spring party! We are releasing our new olive oils\, and club member can pick up their club shipments. Non Club lunch is $15\, and free for club members and a Guest (so join today!). We will have live music\, samples of our fun olive oils\, vinegars\, ranch products and more.\n\nRSVP recommended not required
LOCATION:Olivas de Oro 4625 La Panza Road Creston CA 93432
UID:e.2488.7974
SEQUENCE:3
DTSTAMP:20260422T045901Z
URL:https://business.pasorobleschamber.com/events/details/new-olive-oil-release-spring-party-at-olivas-de-oro-7974
END:VEVENT

END:VCALENDAR
