BEGIN:VCALENDAR
VERSION:2.0
PRODID:-//ChamberMaster//Event Calendar 2.0//EN
METHOD:PUBLISH
X-PUBLISHED-TTL:P3D
REFRESH-INTERVAL:P3D
CALSCALE:GREGORIAN
BEGIN:VEVENT
DTSTART:20180201T000000Z
DTEND:20180201T010000Z
X-MICROSOFT-CDO-ALLDAYEVENT:FALSE
SUMMARY:New Playground Ribbon-Cutting Celebration at Barney Schwartz Park
DESCRIPTION:Come Out and Play!  Members of the community are invited to a ribbon-cutting celebration\, milk and cookie toast and play date at Barney Schwartz Park on Wednesday\, January 31 at 4 p.m. to officially open a new playground area that has recently been completed. This colorful play space encourages high-energy activities with climbing areas\, log tunnels\, spinners\, swings and slides designed for children ages two to 12-years-old.\n\n\nMayor Steve Martin and Julie Dahlen\, Director of Community Services for the City of Paso Robles are expected to speak at the celebration. A milk and chocolate chip cookie toast and ribbon cutting are planned along with giveaways for all children in attendance. Download the entire Press Release at www.prcity.com/Press.
X-ALT-DESC;FMTTYPE=text/html:<p><strong>Come Out and Play!</strong>&nbsp\; Members of the community are invited to a ribbon-cutting celebration\, milk and cookie toast and play date at Barney Schwartz Park on Wednesday\, January 31 at 4 p.m. to officially open a new playground area that has recently been completed. This colorful play space encourages high-energy activities with climbing areas\, log tunnels\, spinners\, swings and slides designed for children ages two to 12-years-old.</p>\n<br />\nMayor Steve Martin and Julie Dahlen\, Director of Community Services for the City of Paso Robles are expected to speak at the celebration. A milk and chocolate chip cookie toast and ribbon cutting are planned along with giveaways for all children in attendance. Download the entire Press Release at <a href="http://www.prcity.com/Press" rel="nofollow" target="_blank">www.prcity.com/Press</a>.
LOCATION:Barney Schwartz Park Lower Playground 2970 Union Road Paso Robles\, CA 93446
UID:e.2488.7963
SEQUENCE:3
DTSTAMP:20260422T070313Z
URL:https://business.pasorobleschamber.com/events/details/new-playground-ribbon-cutting-celebration-at-barney-schwartz-park-7963
END:VEVENT

END:VCALENDAR
