BEGIN:VCALENDAR
VERSION:2.0
PRODID:-//ChamberMaster//Event Calendar 2.0//EN
METHOD:PUBLISH
X-PUBLISHED-TTL:P3D
REFRESH-INTERVAL:P3D
CALSCALE:GREGORIAN
BEGIN:VEVENT
DTSTART:20180513T160000Z
DTEND:20180513T210000Z
X-MICROSOFT-CDO-ALLDAYEVENT:FALSE
SUMMARY:Next Door Bistro: RISE Fundraiser and Mother's Day Brunch!
DESCRIPTION:Next Door Bistro in Paso Robles is serving up brunch this Mother's Day\, May 13th\, for a cause! We will be donating 30% of all sales and collecting monetary donations for RISE. RISE is an incredible non-profit organization that provides crisis intervention services to survivors of sexual and intimate partner violence. All services are provided confidentially and at low or no cost. \n\n?RISE helps so many people\, mothers included\, when they are at the lowest point in their lives. Many of us at Next Door Bistro have been personally touched by intimate partner violence and we know that there are countless many more survivors that need our help.\n\n?Located at 1111 Riverside Avenue\, Paso Robles (right below Cool Hand Luke's). We will be serving Brunch\, Spreading awareness of this cause\, and (with your help) raising money for those in need.
X-ALT-DESC;FMTTYPE=text/html:Next Door Bistro in Paso Robles is serving up brunch this Mother&#39\;s Day\, May 13th\, for a cause! We will be donating 30% of all sales and collecting monetary donations for RISE. RISE is an incredible non-profit organization that provides crisis intervention services to survivors of sexual and intimate partner violence. All services are provided confidentially and at low or no cost.&nbsp\;<br />\n?RISE helps so many people\, mothers included\, when they are at the lowest point in their lives. Many of us at Next Door Bistro have been personally touched by intimate partner violence and we know that there are countless many more survivors that need our help.<br />\n?Located at 1111 Riverside Avenue\, Paso Robles (right below Cool Hand Luke&#39\;s). We will be serving Brunch\, Spreading awareness of this cause\, and (with your help) raising money for those in need.
LOCATION:1111 Riverside Avenue\, Paso Robles (right below Cool Hand Luke's)
UID:e.2488.9166
SEQUENCE:3
DTSTAMP:20260421T165053Z
URL:https://business.pasorobleschamber.com/events/details/next-door-bistro-rise-fundraiser-and-mother-s-day-brunch-9166
END:VEVENT

END:VCALENDAR
