BEGIN:VCALENDAR
VERSION:2.0
PRODID:-//ChamberMaster//Event Calendar 2.0//EN
METHOD:PUBLISH
X-PUBLISHED-TTL:P3D
REFRESH-INTERVAL:P3D
CALSCALE:GREGORIAN
BEGIN:VEVENT
DTSTART:20180925T230000Z
DTEND:20180926T010000Z
X-MICROSOFT-CDO-ALLDAYEVENT:FALSE
SUMMARY:North County Career and Resource Fair
DESCRIPTION:Join us at the Paso Robles Inn Ballroom for a Job and Resource Fair on Sept. 25th from 4 to 6pm
X-ALT-DESC;FMTTYPE=text/html:Join us at the Paso Robles Inn Ballroom for a Job and Resource Fair on Sept. 25th from 4 to 6pm
LOCATION:Paso Robles Inn Ballroom 1103 Spring St. Paso Robles\, 93446
UID:e.2488.9540
SEQUENCE:3
DTSTAMP:20260422T034847Z
URL:https://business.pasorobleschamber.com/events/details/north-county-career-and-resource-fair-9540
END:VEVENT

END:VCALENDAR
