BEGIN:VCALENDAR
VERSION:2.0
PRODID:-//ChamberMaster//Event Calendar 2.0//EN
METHOD:PUBLISH
X-PUBLISHED-TTL:P3D
REFRESH-INTERVAL:P3D
CALSCALE:GREGORIAN
BEGIN:VEVENT
DTSTART:20170507T180000Z
DTEND:20170507T230000Z
X-MICROSOFT-CDO-ALLDAYEVENT:FALSE
SUMMARY:North County Garden Tour
DESCRIPTION:Enjoy a spring Sunday Garden Tour with refreshments in North County on May 7\, benefitting a very worthy cause.  The tour of six unique gardens will raise funds for the Community Action Partnership Adult Day Center in Paso Robles\, which provides socially stimulating and therapeutic activities for older adults experiencing cognitive difficulties and memory loss. \n\n \n\nEach garden on the tour will present different solutions and approaches to creating functional outdoor living amidst the specific geography and habitat of the property.   Attendees will be emailed a map of the tour addresses upon purchasing tickets\, and may start the tour at any of the featured gardens in Atascadero or Paso Robles. Please bring tickets to the first tour stop to be issued a wristband that will grant access for the rest of the tour.   \n\n\n\nTickets are $20.00 per person and can be purchased at:\n\ngardentour.capslo.org
X-ALT-DESC;FMTTYPE=text/html:<span style="font-family:cambria\,serif"><span style="font-size:12pt">Enjoy a spring Sunday Garden Tour with refreshments in North County on May </span></span><span style="font-family:cambria\,serif"><span style="font-size:12.0pt">7\, benefitting a very worthy cause. &nbsp\;The tour of six unique gardens will raise funds for the Community Action Partnership Adult Day Center in Paso Robles\, which provides socially stimulating and therapeutic activities for older adults experiencing cognitive difficulties and memory loss. </span></span><br />\n&nbsp\;<br />\n<span style="font-family:cambria\,serif"><span style="font-size:12pt">Each garden on the tour will present different solutions and approaches to creating functional outdoor living amidst the specific geography and habitat of the property. &nbsp\;&nbsp\;Attendees will be emailed a map of the tour addresses upon purchasing tickets\, and may start the tour at any of the featured </span></span><span style="font-family:cambria\,serif"><span style="font-size:12.0pt">gardens in Atascadero or Paso Robles. Please bring tickets to the first tour stop to be issued a wristband that will grant access for the rest of the tour. &nbsp\;&nbsp\;</span></span><br />\n<br />\n<span style="font-family:cambria\,serif"><span style="font-size:12pt">Tickets are $20.00 per person and can be purchased at:</span></span><br />\n<a href="file:///C:/Users/gmcintosh/Downloads/gardentour.capslo.org"><strong><span style="font-family:cambria\,serif"><span style="font-size:12.0pt">gardentour.capslo.org</span></span></strong></a><br />\n&nbsp\;<br />\n<br />\n&nbsp\;
LOCATION:
UID:e.2488.6440
SEQUENCE:3
DTSTAMP:20260423T211059Z
URL:https://business.pasorobleschamber.com/events/details/north-county-garden-tour-6440
END:VEVENT

END:VCALENDAR
