BEGIN:VCALENDAR
VERSION:2.0
PRODID:-//ChamberMaster//Event Calendar 2.0//EN
METHOD:PUBLISH
X-PUBLISHED-TTL:P3D
REFRESH-INTERVAL:P3D
CALSCALE:GREGORIAN
BEGIN:VEVENT
DTSTART:20161028T003000Z
DTEND:20161028T030000Z
X-MICROSOFT-CDO-ALLDAYEVENT:FALSE
SUMMARY:North County Young Professionals Mixer
DESCRIPTION:
X-ALT-DESC;FMTTYPE=text/html:
LOCATION:
UID:e.2488.4650
SEQUENCE:3
DTSTAMP:20260424T061315Z
URL:https://business.pasorobleschamber.com/events/details/north-county-young-professionals-mixer-10-27-2016-4650
END:VEVENT

END:VCALENDAR
