BEGIN:VCALENDAR
VERSION:2.0
PRODID:-//ChamberMaster//Event Calendar 2.0//EN
METHOD:PUBLISH
X-PUBLISHED-TTL:P3D
REFRESH-INTERVAL:P3D
CALSCALE:GREGORIAN
BEGIN:VEVENT
DTSTART:20161202T013000Z
DTEND:20161202T040000Z
X-MICROSOFT-CDO-ALLDAYEVENT:FALSE
SUMMARY:North County Young Professionals Mixer
DESCRIPTION:Annual Ugly Sweater Mixer
X-ALT-DESC;FMTTYPE=text/html:Annual Ugly Sweater Mixer
LOCATION:Springhill Suites by Marriott
UID:e.2488.4657
SEQUENCE:3
DTSTAMP:20260424T032016Z
URL:https://business.pasorobleschamber.com/events/details/north-county-young-professionals-mixer-12-08-2016-4657
END:VEVENT

END:VCALENDAR
