BEGIN:VCALENDAR
VERSION:2.0
PRODID:-//ChamberMaster//Event Calendar 2.0//EN
METHOD:PUBLISH
X-PUBLISHED-TTL:P3D
REFRESH-INTERVAL:P3D
CALSCALE:GREGORIAN
BEGIN:VEVENT
DTSTART:20160825T143000Z
DTEND:20160825T153000Z
X-MICROSOFT-CDO-ALLDAYEVENT:FALSE
SUMMARY:North County Young Professionals - Morning Buzz
DESCRIPTION:Join us for a great morning of Networking with your favorite North County Young Professionals.
X-ALT-DESC;FMTTYPE=text/html:Join us for a great morning of Networking with your favorite North County&nbsp\;Young Professionals.&nbsp\;<br />\n&nbsp\;
LOCATION:Bru Coffeehouse 5760 El Camino Real Atascadero\, CA 93446
UID:e.2488.4642
SEQUENCE:3
DTSTAMP:20260424T102431Z
URL:https://business.pasorobleschamber.com/events/details/north-county-young-professionals-morning-buzz-4642
END:VEVENT

END:VCALENDAR
