BEGIN:VCALENDAR
VERSION:2.0
PRODID:-//ChamberMaster//Event Calendar 2.0//EN
METHOD:PUBLISH
X-PUBLISHED-TTL:P3D
REFRESH-INTERVAL:P3D
CALSCALE:GREGORIAN
BEGIN:VEVENT
DTSTART:20161109T013000Z
DTEND:20161109T033000Z
X-MICROSOFT-CDO-ALLDAYEVENT:FALSE
SUMMARY:North County Young Professionals 'Votes & Veterans' Mix & Mingle
DESCRIPTION:Come out to mix\, mingle\, and have a beer with the North County Young Professionals in honor of the USA!\n\n\n\nHosted by the NCYP committee\, Edward Jones Investments\, Dan Freer\, and California Meridian Insurance Services\, Inc.\n\n\n\nBeer and food available for purchase.
X-ALT-DESC;FMTTYPE=text/html:Come out to mix\, mingle\, and have a beer with the North County Young Professionals in honor of the USA!<br />\n<br />\nHosted by the NCYP committee\, Edward Jones Investments\, Dan Freer\, and California Meridian Insurance Services\, Inc.<br />\n<br />\nBeer and food available for purchase.
LOCATION:California Meridian Insurance Services 9700 El Camino Real\, Atascadero
UID:e.2488.5641
SEQUENCE:3
DTSTAMP:20260424T043643Z
URL:https://business.pasorobleschamber.com/events/details/north-county-young-professionals-votes-veterans-mix-mingle-5641
END:VEVENT

END:VCALENDAR
