BEGIN:VCALENDAR
VERSION:2.0
PRODID:-//ChamberMaster//Event Calendar 2.0//EN
METHOD:PUBLISH
X-PUBLISHED-TTL:P3D
REFRESH-INTERVAL:P3D
CALSCALE:GREGORIAN
BEGIN:VEVENT
DTSTART:20141121T193000Z
DTEND:20141121T210000Z
X-MICROSOFT-CDO-ALLDAYEVENT:FALSE
SUMMARY:November Women in Business Luncheon
DESCRIPTION:"Building Relationships with Your Customers and Your Staff"Speakers- Christa and Traci Hozie of Brown Butter Cookie CompanyThe entrepreneurial spirit of starting a business from "scratch" for these cookie creators has lead them to understand the power of relationships.  Both internally with the team and externally with their customers Christa and Traci will share their secret to success for building relationships that last. Traci and Christa are sisters\, working together and loving what they do  every  day. Back in December of 2008\, they launched a website for the   Original Brown Butter Sea Salt Cookie. The response was so great that by January 2009\, they closed their small specialty food store and the Brown Butter Cookie Company was born. Since then\, the cookie love has continued to grow. In the Fall of 2013\, they opened their first retail shop in the iconic Acorn Building\, right on the park in downtown Paso Robles\, California.
X-ALT-DESC;FMTTYPE=text/html:<p style="margin:0in 2.95pt 0pt 0.35pt\;text-align:justify\;line-height:134%\;text-indent:-0.35pt\;-ms-text-justify:inter-ideograph\;"><span style="font-family:Arial\,Helvetica\,sans-serif\;font-size:small\;"><strong>"Building Relationships with Your Customers and Your Staff"</strong></span></p><p style="margin:0in 2.95pt 0pt 0.35pt\;text-align:justify\;line-height:134%\;text-indent:-0.35pt\;-ms-text-justify:inter-ideograph\;"><span style="font-family:Arial\,Helvetica\,sans-serif\;font-size:small\;"><strong></strong></span></p><p style="margin:0in 2.95pt 0pt 0.35pt\;text-align:justify\;line-height:134%\;text-indent:-0.35pt\;-ms-text-justify:inter-ideograph\;"><span style="font-family:Arial\,Helvetica\,sans-serif\;font-size:small\;"><strong></strong></span></p><p style="margin:0in 2.95pt 0pt 0.35pt\;text-align:justify\;line-height:134%\;text-indent:-0.35pt\;-ms-text-justify:inter-ideograph\;"><span style="font-family:Arial\,Helvetica\,sans-serif\;font-size:small\;">Speakers- Christa and Traci Hozie of Brown Butter Cookie Company</span></p><p style="margin:0in 2.95pt 0pt 0.35pt\;text-align:justify\;line-height:134%\;text-indent:-0.35pt\;-ms-text-justify:inter-ideograph\;"><span style="color:#1c1c1a\;line-height:134%\;font-family:'Times New Roman'\,'serif'\;font-size:10.5pt\;"></span></p><p style="margin:0in 2.95pt 0pt 0.35pt\;text-align:justify\;line-height:134%\;text-indent:-0.35pt\;-ms-text-justify:inter-ideograph\;"><span style="color:#1c1c1a\;line-height:134%\;font-family:Arial\,Helvetica\,sans-serif\;font-size:small\;">The entrepreneurial spirit of starting a business from "scratch" for these cookie creators has lead them to understand the power of relationships.&nbsp\; Both internally with the team and externally with their customers Christa and Traci will share their secret to success for building relationships that last. </span></p><p style="margin:0in 2.95pt 0pt 0.35pt\;text-align:justify\;line-height:134%\;text-indent:-0.35pt\;-ms-text-justify:inter-ideograph\;"><span style="color:#1c1c1a\;line-height:134%\;font-family:Arial\,Helvetica\,sans-serif\;font-size:small\;"></span></p><p style="margin:0in 2.95pt 0pt 0.35pt\;text-align:justify\;line-height:134%\;text-indent:-0.35pt\;-ms-text-justify:inter-ideograph\;"><span style="line-height:115%\;font-family:'Calibri'\,'sans-serif'\;font-size:11pt\;"><span style="font-family:Arial\,Helvetica\,sans-serif\;font-size:small\;">Traci and Christa are sisters\, working together and loving what they do</span><span>&nbsp\; </span><span style="font-family:Arial\,Helvetica\,sans-serif\;font-size:small\;">every</span><span>&nbsp\; </span><span style="font-family:Arial\,Helvetica\,sans-serif\;font-size:small\;">day. Back in December of 2008\, they launched a website for the</span><span>&nbsp\;&nbsp\; </span><span style="font-family:Arial\,Helvetica\,sans-serif\;font-size:small\;">Original Brown Butter Sea Salt Cookie. The response was so great that by January 2009\, they closed their small specialty food store and the Brown Butter Cookie Company was born. Since then\, the cookie love has continued to grow. In the Fall of 2013\, they opened their first retail shop in the iconic Acorn Building\, right on the park in downtown Paso Robles\, California.</span></span></p><p style="margin:0in 2.95pt 0pt 0.35pt\;text-align:justify\;line-height:134%\;text-indent:-0.35pt\;-ms-text-justify:inter-ideograph\;"><span style="color:#1c1c1a\;font-family:Arial\,Helvetica\,sans-serif\;font-size:small\;"></span></p>
LOCATION:Pear Valley Vineyard & Winery 4900 Union Road\, Paso Robles\, CA 93446
UID:e.2488.4014
SEQUENCE:3
DTSTAMP:20260426T042028Z
URL:https://business.pasorobleschamber.com/events/details/november-women-in-business-luncheon-11-21-2014-4014
END:VEVENT

END:VCALENDAR
