BEGIN:VCALENDAR
VERSION:2.0
PRODID:-//ChamberMaster//Event Calendar 2.0//EN
METHOD:PUBLISH
X-PUBLISHED-TTL:P3D
REFRESH-INTERVAL:P3D
CALSCALE:GREGORIAN
BEGIN:VEVENT
DTSTART:20251115T023000Z
DTEND:20251115T053000Z
X-MICROSOFT-CDO-ALLDAYEVENT:FALSE
SUMMARY:Nutcracker Soirée: A Festive Holiday Gala at Vina Robles
DESCRIPTION:Nutcracker Soir e: A Festive Holiday Gala at Vina Robles Waltz into a World of Wonder at the Vina Robles Tasting Room!Celebrate the season with an enchanting evening in support of the performing arts. Your evening includes: Fine wine & hors d'oeuvres An exclusive sneak peek of The Nutcracker 2025 DJ & dancing Photo opportunities with the Nutcracker cast A festive holiday boutique Raffle prizes featuring local goods & Nutcracker tickets VIP tables available   enjoy plated dinners and complimentary bottles of wine plus advertisement perks!
X-ALT-DESC;FMTTYPE=text/html:Nutcracker Soir&eacute\;e: A Festive Holiday Gala at Vina Robles Waltz into a World of Wonder at the Vina Robles Tasting Room!Celebrate the season with an enchanting evening in support of the performing arts. Your evening includes: Fine wine &amp\; hors d&rsquo\;oeuvres An exclusive sneak peek of The Nutcracker 2025 DJ &amp\; dancing Photo opportunities with the Nutcracker cast A festive holiday boutique Raffle prizes featuring local goods &amp\; Nutcracker tickets VIP tables available &mdash\; enjoy plated dinners and complimentary bottles of wine plus advertisement perks!
LOCATION:Vina Robles Tasting Room
UID:e.2488.19885
SEQUENCE:3
DTSTAMP:20260421T034516Z
URL:https://business.pasorobleschamber.com/events/details/nutcracker-soir&#233;e-a-festive-holiday-gala-at-vina-robles-19885
END:VEVENT

END:VCALENDAR
