BEGIN:VCALENDAR
VERSION:2.0
PRODID:-//ChamberMaster//Event Calendar 2.0//EN
METHOD:PUBLISH
X-PUBLISHED-TTL:P3D
REFRESH-INTERVAL:P3D
CALSCALE:GREGORIAN
BEGIN:VEVENT
DTSTART:20161030T200000Z
DTEND:20161030T220000Z
X-MICROSOFT-CDO-ALLDAYEVENT:FALSE
SUMMARY:October Wine Seminar-Paso Robles Deconstructed
DESCRIPTION:Cass Winery offers the perfect educational venue to become a more advanced taster and wine aficionado. Katie Bay\, Certified Specialist of Wine and Certified Sommelier\, guides you through a lively\, sensory experience that includes analysis and tasting of wines. Each month through a different stimulating and interactive learning experience\, you will cover such topics as the recognition and identification of aromas\, practice the various tasting techniques\, and broaden your wine vocabulary while deepening your understanding of the language of wine.\n\n\n\nOctober seminar theme includes\; Paso Robles has recently been divided into 11 new and distinct American Viticulture Areas (AVA's). Discover the unique differences that influence a wines structure and flavor profile as specific to each sub-region.\n\nKatie promises a lively\, sensory learning experience involving analyzation\, discussion and tasting. By the end of the session you\, too\, will see how discovering the nuances of wine can be simple and above all\, fun!\n\nOffered on a monthly basis\, public seminars are limited to 16 guests.
X-ALT-DESC;FMTTYPE=text/html:<p><span style="font-family:arial\,helvetica\,sans-serif"><span style="font-size:12px">Cass Winery offers the perfect educational venue to become a more advanced taster and wine aficionado. Katie Bay\, Certified Specialist of Wine and Certified Sommelier\, guides you through a lively\, sensory experience that includes analysis and tasting of wines. Each month through a different stimulating and interactive learning experience\, you will cover such topics as the recognition and identification of aromas\, practice the various tasting techniques\, and broaden your wine vocabulary while deepening your understanding of the language of wine.<br />\n<br />\nOctober seminar theme includes\; <span style="color:rgb(73\, 22\, 0)">Paso Robles has recently been divided into 11 new and distinct American Viticulture Areas (AVA&rsquo\;s). Discover the unique differences that influence a wines structure and flavor profile as specific to each sub-region.</span></span></span></p>\n\n<p><span style="font-family:arial\,helvetica\,sans-serif"><span style="font-size:12px">Katie promises a lively\, sensory learning experience involving analyzation\, discussion and tasting. By the end of the session you\, too\, will see how discovering the nuances of wine can be simple and above all\, fun!</span></span></p>\n\n<p><span style="font-family:arial\,helvetica\,sans-serif"><span style="font-size:12px">Offered on a monthly basis\, public seminars are limited to 16 guests.</span></span></p>\n
LOCATION:Cass Winery 7350 Linne Rd. Paso Robles\, Ca 93446
UID:e.2488.4841
SEQUENCE:3
DTSTAMP:20260424T060525Z
URL:https://business.pasorobleschamber.com/events/details/october-wine-seminar-paso-robles-deconstructed-10-30-2016-4841
END:VEVENT

END:VCALENDAR
