BEGIN:VCALENDAR
VERSION:2.0
PRODID:-//ChamberMaster//Event Calendar 2.0//EN
METHOD:PUBLISH
X-PUBLISHED-TTL:P3D
REFRESH-INTERVAL:P3D
CALSCALE:GREGORIAN
BEGIN:VEVENT
DTSTART:20160716T170000Z
DTEND:20160718T010000Z
X-MICROSOFT-CDO-ALLDAYEVENT:FALSE
SUMMARY:Open House at Arbor Ridge New Home community in Paso Robles!
DESCRIPTION:Open House this weekend at Arbor Ridge on Sat & Sun from 10AM - 6PM.\n\n303 Oak Hill Road\, Paso Robles
X-ALT-DESC;FMTTYPE=text/html:<span style="font-size:14px"><span style="font-family:verdana">Open House this weekend at Arbor Ridge on Sat &amp\; Sun from 10AM - 6PM.</span></span>\n\n<p><span style="font-size:14px"><span style="font-family:verdana">303 Oak Hill Road\, Paso Robles </span></span></p>\n
LOCATION:
UID:e.2488.4810
SEQUENCE:3
DTSTAMP:20260424T150417Z
URL:https://business.pasorobleschamber.com/events/details/open-house-at-arbor-ridge-new-home-community-in-paso-robles-07-16-2016-4810
END:VEVENT

END:VCALENDAR
