BEGIN:VCALENDAR
VERSION:2.0
PRODID:-//ChamberMaster//Event Calendar 2.0//EN
METHOD:PUBLISH
X-PUBLISHED-TTL:P3D
REFRESH-INTERVAL:P3D
CALSCALE:GREGORIAN
BEGIN:VEVENT
DTSTART:20161210T190000Z
DTEND:20161211T020000Z
X-MICROSOFT-CDO-ALLDAYEVENT:FALSE
SUMMARY:Open House at Le Vigne Winery
DESCRIPTION:It's that time of year again for our Annual Holiday Open House! What better way to kick off and celebrate the holiday season than shopping and sipping at your favorite Paso Robles East side wineries?! Each of our eighteen 46 East wineries will "open their house" in their own holiday style featuring merchandise sales and case specials along with some holiday treats and sounds of the season! Get your Holiday shopping done early and find that perfect gift for the "all things wine-loving" people in your life and enjoy a sip or two for yourself!\n\nDon't miss out on this special gift shopping and sipping experience. We'll see you in our tasting rooms on Saturday\, December 10th during regular business hours. Cheers!\n\n46 East Wineries include:\n\nBarr Estate - Bianchi - Brochelle - Broken Earth - Eberle - EOS - Glunz - Graveyard - Hearst Ranch - Le Vigne - Pear Valley - Penman Springs - Rendarrio - Rio Seco - Robert Hall - San Antonio - Tobin James - Vina Robles
X-ALT-DESC;FMTTYPE=text/html:<p style="text-align:center">It&#39\;s that time of year again for our Annual Holiday Open House! What better way to kick off and celebrate the holiday season than shopping and sipping at your favorite Paso Robles East side wineries?! Each of our eighteen 46 East wineries will &quot\;open their house&quot\; in their own holiday style featuring merchandise sales and case specials along with some holiday treats and sounds of the season! Get your Holiday shopping done early and find that perfect gift for the &quot\;all things wine-loving&quot\; people in your life and enjoy a sip or two for yourself!</p>\n\n<p style="text-align:center">Don&#39\;t miss out on this special gift shopping and sipping experience. We&#39\;ll see you in our tasting rooms on Saturday\, December 10th during regular business hours. Cheers!</p>\n\n<p style="text-align:center">46 East Wineries include:<br />\nBarr Estate - Bianchi - Brochelle - Broken Earth - Eberle - EOS - Glunz - Graveyard - Hearst Ranch - Le Vigne - Pear Valley - Penman Springs - Rendarrio - Rio Seco - Robert Hall - San Antonio - Tobin James - Vina Robles</p>\n
LOCATION:Le Vigne Winery 5115 Buena Vista Dr. Paso Robles\, CA 93446
UID:e.2488.5652
SEQUENCE:3
DTSTAMP:20260424T031939Z
URL:https://business.pasorobleschamber.com/events/details/open-house-at-le-vigne-winery-5652
END:VEVENT

END:VCALENDAR
