BEGIN:VCALENDAR
VERSION:2.0
PRODID:-//ChamberMaster//Event Calendar 2.0//EN
METHOD:PUBLISH
X-PUBLISHED-TTL:P3D
REFRESH-INTERVAL:P3D
CALSCALE:GREGORIAN
BEGIN:VEVENT
DTSTART;VALUE=DATE:20170427
DTEND;VALUE=DATE:20170428
TRANSP:TRANSPARENT
X-MICROSOFT-CDO-ALLDAYEVENT:TRUE
SUMMARY:OPEN HOUSE: Beauty Party & Happy Hour
DESCRIPTION:Come party\, be pampered\, network\, and support local women business owners in direct sales.\n\n	Fun photo booth with interactive props\n	LaZarre Wine wine tasting\n	Ballast Point beer tasting\n	Beverages\, Appetizers\, Free Samples\, Door Prize\n\n\n\nFeaturing:\n\n\n\nCandice Hubbard\, Claudia G\, Fashion & Accessories\n\nCarla Emanuelson\, Vasayo\, Vitamans\n\nKristi Huyck\, DoTerra\, Essential Oils\n\nEmily Orlando\, Mary Kay\, Makeup \n\nHolly Taft\, Arbonne\, Beauty Products\n\nMaleika Lacy - Nerium\, Anti-Aging Skincare\n\n\n\nRSVP on Facebook: https://www.facebook.com/events/381011125616188/\n\nMore info: http://eburgeon.com/marketing-education/
X-ALT-DESC;FMTTYPE=text/html:<span style="color:#4B4F56"><span style="font-family:helvetica\,sans-serif"><span style="font-size:10.5pt">Come party\, be pampered\, network\, and support local women business owners in direct sales.</span></span></span>\n<ul>\n	<li><span style="font-family:helvetica\,sans-serif"><span style="font-size:10.5pt">Fun photo booth with interactive props</span></span></li>\n	<li><span style="font-family:helvetica\,sans-serif"><span style="font-size:10.5pt"><a href="http://lazarreswines.com/" target="_blank">LaZarre Wine</a>&nbsp\;wine tasting</span></span></li>\n	<li><span style="font-family:helvetica\,sans-serif"><span style="font-size:10.5pt"><a href="https://www.ballastpoint.com/" target="_blank">Ballast Point</a>&nbsp\;beer&nbsp\;</span></span><span style="font-family:helvetica\,sans-serif\; font-size:14px">tasting</span></li>\n	<li><span style="font-family:helvetica\,sans-serif"><span style="font-size:10.5pt">Beverages\, Appetizers\, Free Samples\, Door Prize</span></span></li>\n</ul>\n<br />\n<strong><span style="color:#4B4F56"><span style="font-family:helvetica\,sans-serif"><span style="font-size:10.5pt">Featuring:</span></span></span></strong><br />\n<br />\n<span style="color:#4B4F56"><span style="font-family:helvetica\,sans-serif"><span style="font-size:10.5pt">Candice Hubbard\, Claudia G\, Fashion &amp\; Accessories</span></span></span><br />\n<span style="color:#4B4F56"><span style="font-family:helvetica\,sans-serif"><span style="font-size:10.5pt">Carla Emanuelson\, Vasayo\, Vitamans</span></span></span><br />\n<span style="color:#4B4F56"><span style="font-family:helvetica\,sans-serif"><span style="font-size:10.5pt">Kristi Huyck\, DoTerra\, Essential Oils</span></span></span><br />\n<span style="color:#4B4F56"><span style="font-family:helvetica\,sans-serif"><span style="font-size:10.5pt">Emily Orlando\, Mary Kay\, Makeup&nbsp\;</span></span></span><br />\n<span style="color:#4B4F56"><span style="font-family:helvetica\,sans-serif"><span style="font-size:10.5pt">Holly Taft\, Arbonne\, Beauty Products</span></span></span><br />\n<span style="color:#4B4F56"><span style="font-family:helvetica\,sans-serif"><span style="font-size:10.5pt">Maleika Lacy - Nerium\, Anti-Aging Skincare<br />\n<br />\nRSVP on Facebook:&nbsp\;</span></span></span><a href="https://www.facebook.com/events/381011125616188/" target="_blank">https://www.facebook.com/events/381011125616188/</a><br />\n<span style="color:#4B4F56"><span style="font-family:helvetica\,sans-serif"><span style="font-size:10.5pt">More info:&nbsp\;</span></span></span><a href="http://eburgeon.com/marketing-education/" target="_blank">http://eburgeon.com/marketing-education/</a>
LOCATION:eBURGEON - Marketing for Small Businesses 1111 Riverside Ave\, Ste 401 Paso Robles\, CA 93446
UID:e.2488.6426
SEQUENCE:3
DTSTAMP:20260423T231347Z
URL:https://business.pasorobleschamber.com/events/details/open-house-beauty-party-happy-hour-6426
END:VEVENT

END:VCALENDAR
