BEGIN:VCALENDAR
VERSION:2.0
PRODID:-//ChamberMaster//Event Calendar 2.0//EN
METHOD:PUBLISH
X-PUBLISHED-TTL:P3D
REFRESH-INTERVAL:P3D
CALSCALE:GREGORIAN
BEGIN:VEVENT
DTSTART:20160902T193000Z
DTEND:20160902T233000Z
X-MICROSOFT-CDO-ALLDAYEVENT:FALSE
SUMMARY:Open Office Hours
DESCRIPTION:Are you an entrepreneur?\n\n\n\nThe Paso Robles Chamber of Commerce invites you to drop-in the first Friday of every month during Open Office Hours to ask questions and/or discuss business concerns with an SBDC Consultant!
X-ALT-DESC;FMTTYPE=text/html:<span style="color: rgb(51\, 51\, 51)\; font-family: sans-serif\, Arial\, Verdana\, 'Trebuchet MS'\; font-size: 13px\; line-height: 20.8px\; background-color: rgb(255\, 255\, 255)\;">Are you an&nbsp\;</span><span style="font-size: 13px\; color: rgb(37\, 37\, 37)\; font-family: 'Trebuchet MS'\, sans-serif\; line-height: 20.215px\; text-align: justify\;">entrepreneur</span><span style="color: rgb(51\, 51\, 51)\; font-family: sans-serif\, Arial\, Verdana\, 'Trebuchet MS'\; font-size: 13px\; line-height: 20.8px\; background-color: rgb(255\, 255\, 255)\;">?</span><br style="color: rgb(51\, 51\, 51)\; font-family: sans-serif\, Arial\, Verdana\, 'Trebuchet MS'\; font-size: 13px\; line-height: 20.8px\;" />\n<br style="color: rgb(51\, 51\, 51)\; font-family: sans-serif\, Arial\, Verdana\, 'Trebuchet MS'\; font-size: 13px\; line-height: 20.8px\;" />\n<span style="color: rgb(51\, 51\, 51)\; font-family: sans-serif\, Arial\, Verdana\, 'Trebuchet MS'\; font-size: 13px\; line-height: 20.8px\; background-color: rgb(255\, 255\, 255)\;">The Paso Robles Chamber of Commerce invites you to drop-in the first Friday of every month during Open Office Hours to ask questions and/or discuss business concerns with an&nbsp\;</span>SBDC<span style="color: rgb(51\, 51\, 51)\; font-family: sans-serif\, Arial\, Verdana\, 'Trebuchet MS'\; font-size: 13px\; line-height: 20.8px\; background-color: rgb(255\, 255\, 255)\;">&nbsp\;Consultant!</span>
LOCATION:Paso Robles Chamber of Commerce Office 1225 Park Street Paso Robles\, CA 93446
UID:e.2488.4613
SEQUENCE:3
DTSTAMP:20260420T172633Z
URL:https://business.pasorobleschamber.com/events/details/open-office-hours-09-02-2016-4613
END:VEVENT

END:VCALENDAR
