BEGIN:VCALENDAR
VERSION:2.0
PRODID:-//ChamberMaster//Event Calendar 2.0//EN
METHOD:PUBLISH
X-PUBLISHED-TTL:P3D
REFRESH-INTERVAL:P3D
CALSCALE:GREGORIAN
BEGIN:VEVENT
DTSTART:20180314T000000Z
DTEND:20180314T050000Z
X-MICROSOFT-CDO-ALLDAYEVENT:FALSE
SUMMARY:Opening Night of the 2018 SLO Film Festival
DESCRIPTION:SAN LUIS OBISPO MEETS BOLLYWOOD AT MISSION PLAZA\n\n\n\nA festive evening is in store when the sights\, sounds and tastes of India dazzle Opening Night guests at Mission Plaza\, the site of our Festival Tent this year!\n\n\n\nIndian dancers from the Cal Poly Student Association will entertain on the Mission steps\, and guests will be treated to party favors\, Central Coast wine\, beer and a mixture of savory Indian and American food\, in both the Festival Tent and the scenic patio at Luna Red\, with a view of the historic Mission. A henna artist and Tarot Reader at Luna Red will add to the fun\, before guests head up to the Fremont Theatre for our Opening Night movie.\n\n\n\nHOTEL SALVATION (Opening Night Film)\n\nWhen an ominous dream convinces 77-year-old Dayanand Kumar that his end could be near\, he decides he wants to breathe his last breath in the holy city of Varanasi and end the cycle of rebirth\, by attaining salvation. His dutiful son Rajiv is left with no choice but to drop everything and make the journey with his stubborn father. They check into the Hotel Salvation\, and as the days go by\, Rajiv struggles to juggle his responsibilities back home\, while Daya starts to bloom in the hotel. "An enjoyable\, thoughtful comedy about dying\, freedom and family ties." Hollywood Reporter. Comedy/Drama. 102 min. India.
X-ALT-DESC;FMTTYPE=text/html:<strong><span style="color:rgb(75\, 79\, 86)\; font-family:sf optimized\,system-ui\,-apple-system\,blinkmacsystemfont\,.sfnstext-regular\,sans-serif\; font-size:14px">SAN LUIS OBISPO MEETS BOLLYWOOD AT MISSION PLAZA</span></strong><br />\n<br />\n<span style="color:rgb(75\, 79\, 86)\; font-family:sf optimized\,system-ui\,-apple-system\,blinkmacsystemfont\,.sfnstext-regular\,sans-serif\; font-size:14px">A festive evening is in store when the sights\, sounds and tastes of India dazzle Opening Night guests at Mission Plaza\, the site of our Festival Tent this year!</span><br />\n<br />\n<span style="color:rgb(75\, 79\, 86)\; font-family:sf optimized\,system-ui\,-apple-system\,blinkmacsystemfont\,.sfnstext-regular\,sans-serif\; font-size:14px">Indian dancers from the Cal Poly Student Association will entertain on the Mission steps\, and guests will be treated to party favors\, Central Coast wine\, beer and a mixture of savory Indian and American food\, in both the Festival Tent and the scenic patio at Luna Red\, with a view of the historic Mission. A henna artist and Tarot Reader at Luna Red will add to the fun\, before guests head up to the Fremont Theatre for our Opening Night movie.</span><br />\n<br />\n<span style="color:rgb(75\, 79\, 86)\; font-family:sf optimized\,system-ui\,-apple-system\,blinkmacsystemfont\,.sfnstext-regular\,sans-serif\; font-size:14px"><em><strong>HOTEL SALVATION</strong></em> (Opening Night Film)</span><br />\n<span style="color:rgb(75\, 79\, 86)\; font-family:sf optimized\,system-ui\,-apple-system\,blinkmacsystemfont\,.sfnstext-regular\,sans-serif\; font-size:14px">When an ominous dream con</span><span style="color:rgb(75\, 79\, 86)\; font-family:sf optimized\,system-ui\,-apple-system\,blinkmacsystemfont\,.sfnstext-regular\,sans-serif\; font-size:14px">vinces 77-year-old Dayanand Kumar that his end could be near\, he decides he wants to breathe his last breath in the holy city of Varanasi and end the cycle of rebirth\, by attaining salvation. His dutiful son Rajiv is left with no choice but to drop everything and make the journey with his stubborn father. They check into the Hotel Salvation\, and as the days go by\, Rajiv struggles to juggle his responsibilities back home\, while Daya starts to bloom in the hotel. &ldquo\;An enjoyable\, thoughtful comedy about dying\, freedom and family ties.&rdquo\; Hollywood Reporter. Comedy/Drama. 102 min. India.</span>
LOCATION:Opening Night Party: Festival Tent\, Mission Plaza & Luna Red Opening Night Movie: Fremont Theater\, SLO
UID:e.2488.7999
SEQUENCE:3
DTSTAMP:20260422T051357Z
URL:https://business.pasorobleschamber.com/events/details/opening-night-of-the-2018-slo-film-festival-7999
END:VEVENT

END:VCALENDAR
