BEGIN:VCALENDAR
VERSION:2.0
PRODID:-//ChamberMaster//Event Calendar 2.0//EN
METHOD:PUBLISH
X-PUBLISHED-TTL:P3D
REFRESH-INTERVAL:P3D
CALSCALE:GREGORIAN
BEGIN:VEVENT
DTSTART:20161106T020000Z
DTEND:20161106T050000Z
X-MICROSOFT-CDO-ALLDAYEVENT:FALSE
SUMMARY:Paderewski Festival
DESCRIPTION:Paderewski Festival Gala Recital with Tadeusz Domanowski\, pianist\, performing works by Chopin\, Paderewski\, Ryterband\, Gershwin and Bizet.
X-ALT-DESC;FMTTYPE=text/html:Paderewski Festival Gala Recital with Tadeusz Domanowski\, pianist\, performing works by Chopin\, Paderewski\, Ryterband\, Gershwin and Bizet.
LOCATION:Paso Robles Inn Ballroom\, 1103 Spring Street\, Paso Robles
UID:e.2488.5625
SEQUENCE:3
DTSTAMP:20260424T044018Z
URL:https://business.pasorobleschamber.com/events/details/paderewski-festival-11-05-2016-5625
END:VEVENT

END:VCALENDAR
