BEGIN:VCALENDAR
VERSION:2.0
PRODID:-//ChamberMaster//Event Calendar 2.0//EN
METHOD:PUBLISH
X-PUBLISHED-TTL:P3D
REFRESH-INTERVAL:P3D
CALSCALE:GREGORIAN
BEGIN:VEVENT
DTSTART;VALUE=DATE:20160827
DTEND;VALUE=DATE:20160828
TRANSP:TRANSPARENT
X-MICROSOFT-CDO-ALLDAYEVENT:TRUE
SUMMARY:Paint and Sip
DESCRIPTION:Come join us for an afternoon of painting a bicycle outside a window. Skye (our instructor) will guide us through the lesson. We will learn\, we will chat\, and we will leave with a painting and a great memory of doing something fun and eventful. \n\n\n\nYou must go to the webiste to pay for a seat!
X-ALT-DESC;FMTTYPE=text/html:Come join us for an afternoon of painting a bicycle outside a window. Skye (our instructor) will guide us through the lesson. We will learn\, we will chat\, and we will leave with a painting and a great memory of doing something fun and eventful.&nbsp\;<br />\n<br />\nYou must go to the webiste to pay for a seat!
LOCATION:7750 Highway 101
UID:e.2488.4842
SEQUENCE:3
DTSTAMP:20260424T102231Z
URL:https://business.pasorobleschamber.com/events/details/paint-and-sip-08-27-2016-4842
END:VEVENT

END:VCALENDAR
