BEGIN:VCALENDAR
VERSION:2.0
PRODID:-//ChamberMaster//Event Calendar 2.0//EN
METHOD:PUBLISH
X-PUBLISHED-TTL:P3D
REFRESH-INTERVAL:P3D
CALSCALE:GREGORIAN
BEGIN:VEVENT
DTSTART:20180715T230000Z
DTEND:20180716T010000Z
X-MICROSOFT-CDO-ALLDAYEVENT:FALSE
SUMMARY:Paint Night at Calcareous Vineyard with Let's Party SLO
DESCRIPTION:Join us for a fun evening full of painting a vineyard while enjoying a glass of your favorite Calcareous wine! \n\nAll materials and guidance are included\, as well as your first glass of wine. \n\nWine by the glass and by the bottle will be available for purchase.
X-ALT-DESC;FMTTYPE=text/html:<div style="text-align:center">Join us for a fun evening full of painting a vineyard while enjoying a glass of your favorite Calcareous wine!&nbsp\;<br />\nAll materials and guidance are included\, as well as your first glass of wine.&nbsp\;</div>\n\n<div style="text-align:center">Wine by the glass and by the bottle will be available for purchase.&nbsp\;</div>\n
LOCATION:Calcareous Vineyard Tasting Room 3430 Peachy Canyon Rd Paso Robles\, CA 93446
UID:e.2488.8130
SEQUENCE:3
DTSTAMP:20260421T152405Z
URL:https://business.pasorobleschamber.com/events/details/paint-night-at-calcareous-vineyard-with-let-s-party-slo-8130
END:VEVENT

END:VCALENDAR
