BEGIN:VCALENDAR
VERSION:2.0
PRODID:-//ChamberMaster//Event Calendar 2.0//EN
METHOD:PUBLISH
X-PUBLISHED-TTL:P3D
REFRESH-INTERVAL:P3D
CALSCALE:GREGORIAN
BEGIN:VEVENT
DTSTART;VALUE=DATE:20160911
DTEND;VALUE=DATE:20160912
TRANSP:TRANSPARENT
X-MICROSOFT-CDO-ALLDAYEVENT:TRUE
SUMMARY:Pajama Party Movie "It's a Mad\, Mad\, Mad\, Mad World"
DESCRIPTION:Sunday at 7pm at Park Cinemas.  Tickets are $10 (include popcorn/soda) .Pajama Costume Contest - Awards!
X-ALT-DESC;FMTTYPE=text/html:Sunday at 7pm at Park Cinemas. &nbsp\;Tickets are $10 (include popcorn/soda) .Pajama Costume Contest - Awards!
LOCATION:Park Cinemas
UID:e.2488.4746
SEQUENCE:3
DTSTAMP:20260424T103913Z
URL:https://business.pasorobleschamber.com/events/details/pajama-party-movie-it-s-a-mad-mad-mad-mad-world-09-11-2016-4746
END:VEVENT

END:VCALENDAR
