BEGIN:VCALENDAR
VERSION:2.0
PRODID:-//ChamberMaster//Event Calendar 2.0//EN
METHOD:PUBLISH
X-PUBLISHED-TTL:P3D
REFRESH-INTERVAL:P3D
CALSCALE:GREGORIAN
BEGIN:VEVENT
DTSTART:20170105T200000Z
DTEND:20170131T230000Z
X-MICROSOFT-CDO-ALLDAYEVENT:FALSE
SUMMARY:Paso Robles Artist Association Exhibit: Oceans
DESCRIPTION:Local artists will exhibit their relationship with the great oceans through their art. See how artists portray their relationships with the animals that live in\, around and above the ocean\, with the people that play and work with the ocean\, the waves crashing on the rocks\, piers flowing towards it or the clouds above. Or\, it could be the blue and green and all the colors in between. The reception will be held on Saturday\, January 7\, 2017 from 5-7 at the Paso Robles Artist Association Showroom in Studios on the Park\, 1130 Pine St.\, Paso Robles California. The exhibit ends on January 31\, 2017.
X-ALT-DESC;FMTTYPE=text/html:Local artists will exhibit their relationship with the great oceans through their art. See how artists portray their relationships with the animals that live in\, around and above the ocean\, with the people that play and work with the ocean\, the waves crashing on the rocks\, piers flowing towards it or the clouds above. Or\, it could be the blue and green and all the colors in between. The reception will be held on Saturday\, January 7\, 2017 from 5-7 at the Paso Robles Artist Association Showroom in Studios on the Park\, 1130 Pine St.\, Paso Robles California. The exhibit ends on January 31\, 2017.
LOCATION:Paso Robles Artist Association Showroom at Studios on the Park\, 1130 Pine St.\, Paso Robles\, CA
UID:e.2488.5698
SEQUENCE:3
DTSTAMP:20260424T033047Z
URL:https://business.pasorobleschamber.com/events/details/paso-robles-artist-association-exhibit-oceans-5698
END:VEVENT

END:VCALENDAR
