BEGIN:VCALENDAR
VERSION:2.0
PRODID:-//ChamberMaster//Event Calendar 2.0//EN
METHOD:PUBLISH
X-PUBLISHED-TTL:P3D
REFRESH-INTERVAL:P3D
CALSCALE:GREGORIAN
BEGIN:VEVENT
DTSTART:20150506T150000Z
DTEND:20150506T230000Z
X-MICROSOFT-CDO-ALLDAYEVENT:FALSE
SUMMARY:Paso Robles Chamber 53rd Annual Ag Tour ''Lighting Up the East''
DESCRIPTION:Paso Robles Chamber 53rd Annual Ag Tour\n"Lighting Up the East"\nThis popular annual tour showcases some of the county's most diverse\, private agriculture operations during the tour. This year's Tour\, titled "Lighting Up the East" highlights Eastern San Luis Obispo County.Tour information:bus check In: Arrive at 8:05am SHARP to board the bus at the Pioneer Museum Bus departure: 8:30am from Pioneer Museum\, 19th & Riverside Paso\n Robles\n Parking will be available in the Paso Robles Event Center parking lot. Buses will return to the Pioneer Museum between 6:00pm-6:30 pm. tour stops include: 9:20am  Twisselman Ranch for coffee and donuts 11:00am  Topaz Solar Ranch 12:30am  La Panza Ranch for lunch  2:20pm  La Panza Fire Station 3:45pm  Sculpterra Winery for wine tasting 6:00pm  Paso Robles MuseumTicket information:  This letter confirms your reservation Enclosed\, are your tickets Remember to bring your tickets with you in order to board the busNOTE:   All ticket sales are final.  Tickets are non-refundable.A few side notes:  Bottled water\, a wine glass\, and a "goody bag" with snacks and other items will be provided for each tour guest.  Please be prepared for weather and the unknown rural agricultural environments.  Plan ahead with comfortable clothes\, walking shoes\, sunglasses\, jacket or sweater\, sunscreen and hat.Questions:  Call Shannon Wish'on at 805.227.2871 or events@pasorobleschamber.com
X-ALT-DESC;FMTTYPE=text/html:<p><span style="font-family:arial\;"><span style="color:#555555\;font-size:13px\;"><strong><span style="color:#555555\;font-size:13px\;"><strong><span style="color:#549dbd\;font-family:tahoma\;font-size:16px\;">Paso Robles Chamber 53rd Annual Ag Tour<br />"Lighting Up the East"<br /></span></strong></span></strong></span></span></p><p><span style="font-size:13px\;"><span style="font-family:tahoma\;"><span style="color:#000033\;font-family:Tahoma\,Geneva\,sans-serif\;font-size:small\;">This popular annual tour showcases some of the county&rsquo\;s most diverse\, private agriculture operations during the tour. This year&rsquo\;s Tour\, titled &ldquo\;Lighting Up the East&rdquo\; highlights Eastern San Luis Obispo County.</span></span></span></p><p><span style="font-size:13px\;"><span style="font-family:tahoma\;"><span style="color:#555555\;font-family:Tahoma\,Geneva\,sans-serif\;font-size:small\;"></span></span></span></p><p><span style="font-family:arial\;"><span style="font-size:13px\;"><span style="font-family:tahoma\;"><span style="color:#000000\;font-family:Tahoma\,Geneva\,sans-serif\;font-size:small\;">Tour information:</span></span></span></span></p><p><span lang="en-US" style="text-transform:uppercase\;font-family:Tahoma\,Geneva\,sans-serif\;font-size:small\;font-weight:bold\;language:en-US\;">bus check In:</span></p><p><span lang="en-US" style="text-transform:uppercase\;font-family:Tahoma\,Geneva\,sans-serif\;font-size:small\;font-weight:bold\;language:en-US\;"></span></p><p><span lang="en-US" style="text-transform:uppercase\;font-family:Tahoma\,Geneva\,sans-serif\;font-size:small\;font-weight:bold\;language:en-US\;"></span></p><p><span lang="en-US" style="text-transform:uppercase\;font-family:Tahoma\,Geneva\,sans-serif\;font-size:small\;font-weight:bold\;language:en-US\;"></span></p><ul><li><span style="width:13.5pt\;">&nbsp\;</span><span lang="en-US" style="font-family:Tahoma\,Geneva\,sans-serif\;font-size:small\;language:en-US\;">Arrive at 8:05am SHARP to board the bus at the Pioneer Museum</span></li><li><span style="width:13.5pt\;">&nbsp\;</span><span lang="en-US" style="font-family:Tahoma\,Geneva\,sans-serif\;font-size:13.5pt\;language:en-US\;"><span style="font-size:small\;">Bus departure:&nbsp\;8:30am from Pioneer Museum\, 19th &amp\;&nbsp\;Riverside Paso<br />&nbsp\;Robles<br /></span></span></li><li><span style="width:13.5pt\;">&nbsp\;</span><span lang="en-US" style="font-family:Tahoma\,Geneva\,sans-serif\;font-size:small\;language:en-US\;">Parking will be available in the Paso Robles Event Center parking lot.</span></li><li><span style="width:13.5pt\;">&nbsp\;</span><span lang="en-US" style="font-family:Tahoma\,Geneva\,sans-serif\;font-size:small\;language:en-US\;">Buses will return to the Pioneer Museum between 6:00pm-6:30 pm. </span></li></ul><p><span lang="en-US" style="text-transform:uppercase\;font-family:Tahoma\,Geneva\,sans-serif\;font-size:small\;font-weight:bold\;language:en-US\;">tour stops include:</span></p><ul><li><span style="width:13.5pt\;">&nbsp\;</span><span lang="en-US" style="font-family:Calibri\;font-size:13.5pt\;language:en-US\;"><span style="font-family:Tahoma\,Geneva\,sans-serif\;font-size:small\;">9:20am</span><span> </span><span> </span><span style="font-family:Tahoma\,Geneva\,sans-serif\;font-size:small\;">Twisselman Ranch for coffee and donuts</span></span></li><li><span style="width:13.5pt\;">&nbsp\;</span><span lang="en-US" style="font-family:Calibri\;font-size:13.5pt\;language:en-US\;"><span style="font-family:Tahoma\,Geneva\,sans-serif\;font-size:small\;">11:00am</span><span> </span><span> </span><span style="font-family:Tahoma\,Geneva\,sans-serif\;font-size:small\;">Topaz Solar Ranch</span></span></li><li><span style="width:13.5pt\;">&nbsp\;</span><span lang="en-US" style="font-family:Calibri\;font-size:13.5pt\;language:en-US\;"><span style="font-family:Tahoma\,Geneva\,sans-serif\;font-size:small\;">12:30am</span><span> </span><span> </span><span style="font-family:Tahoma\,Geneva\,sans-serif\;font-size:small\;">La Panza Ranch for lunch </span></span></li><li><span style="width:13.5pt\;">&nbsp\;</span><span lang="en-US" style="font-family:Calibri\;font-size:13.5pt\;language:en-US\;"><span style="font-family:Tahoma\,Geneva\,sans-serif\;font-size:small\;">2:20pm</span><span> </span><span> </span><span style="font-family:Tahoma\,Geneva\,sans-serif\;font-size:small\;">La Panza Fire Station</span></span></li><li><span style="width:13.5pt\;">&nbsp\;</span><span lang="en-US" style="font-family:Calibri\;font-size:13.5pt\;language:en-US\;"><span style="font-family:Tahoma\,Geneva\,sans-serif\;font-size:small\;">3:45pm</span><span> </span><span> </span><span style="font-family:Tahoma\,Geneva\,sans-serif\;font-size:small\;">Sculpterra Winery for wine tasting</span></span></li><li><span style="width:13.5pt\;">&nbsp\;</span><span lang="en-US" style="font-family:Calibri\;font-size:13.5pt\;language:en-US\;"><span style="font-family:Tahoma\,Geneva\,sans-serif\;font-size:small\;">6:00pm</span><span> </span><span> </span><span style="font-family:Tahoma\,Geneva\,sans-serif\;font-size:small\;">Paso Robles Museum</span></span></li></ul><p><span lang="en-US" style="text-transform:uppercase\;font-family:Calibri\;font-size:13.5pt\;font-weight:bold\;language:en-US\;"><span style="font-family:Tahoma\,Geneva\,sans-serif\;font-size:small\;">Ticket information:</span><span>&nbsp\; </span></span><span lang="en-US" style="text-transform:uppercase\;font-family:Tahoma\,Geneva\,sans-serif\;font-size:small\;language:en-US\;">This letter confirms your reservation</span></p><ul><li><span style="width:13.5pt\;">&nbsp\;</span><span lang="en-US" style="font-family:Tahoma\,Geneva\,sans-serif\;font-size:small\;language:en-US\;">Enclosed\, are your tickets</span></li><li><span style="width:13.5pt\;">&nbsp\;</span><span lang="en-US" style="font-family:Tahoma\,Geneva\,sans-serif\;font-size:small\;language:en-US\;">Remember to bring your tickets with you in order to board the bus</span></li></ul><p><span lang="en-US" style="color:#c00000\;font-family:Calibri\;font-size:13.5pt\;font-weight:bold\;language:en-US\;"><span style="font-family:Tahoma\,Geneva\,sans-serif\;font-size:small\;">NOTE:</span><span>&nbsp\; </span></span><span lang="en-US" style="font-family:Calibri\;font-size:13.5pt\;language:en-US\;"><span>&nbsp\;</span><span style="font-family:Tahoma\,Geneva\,sans-serif\;font-size:small\;">All ticket sales are final.</span><span>&nbsp\; </span><span style="font-family:Tahoma\,Geneva\,sans-serif\;font-size:small\;">Tickets are non-refundable.</span></span></p><p><span lang="en-US" style="color:#006699\;text-transform:uppercase\;font-family:Calibri\;font-size:13.5pt\;font-weight:bold\;language:en-US\;"><span style="font-family:Tahoma\,Geneva\,sans-serif\;font-size:small\;">A few side notes:</span><span>&nbsp\; </span></span><span lang="en-US" style="font-family:Calibri\;font-size:13.5pt\;language:en-US\;"><span style="font-family:Tahoma\,Geneva\,sans-serif\;font-size:small\;">Bottled water\, a wine glass\, and a &ldquo\;goody bag&rdquo\; with snacks and other items will be provided for each tour guest.</span><span>&nbsp\; </span><span style="font-family:Tahoma\,Geneva\,sans-serif\;font-size:small\;">Please be prepared for weather and the unknown rural </span><span style="font-family:Tahoma\,Geneva\,sans-serif\;font-size:small\;">agricultural environments.</span><span>&nbsp\; </span><span style="font-family:Tahoma\,Geneva\,sans-serif\;font-size:small\;">Plan ahead with comfortable clothes\, walking shoes\, sunglasses\, jacket or sweater\, sunscreen and hat.</span></span></p><p><span lang="en-US" style="font-family:Calibri\;font-size:13.5pt\;language:en-US\;"><span style="font-family:Tahoma\,Geneva\,sans-serif\;font-size:small\;"><strong>Questions:</strong>&nbsp\; Call Shannon Wish'on at 805.227.2871 or <a href="mailto:events@pasorobleschamber.com">events@pasorobleschamber.com</a></span></span></p><p><span lang="en-US" style="font-family:Calibri\;font-size:13.5pt\;font-style:italic\;language:en-US\;">&nbsp\;</span></p><p><span lang="en-US" style="font-family:Tahoma\,Geneva\,sans-serif\;font-size:small\;language:en-US\;"></span></p><p><span lang="en-US" style="language:en-US\;">&nbsp\;</span></p><p><span style="font-family:arial\;"><span style="font-size:13px\;"><span style="color:#555555\;font-family:tahoma\;font-size:13px\;"><br /></span></span></span></p>
LOCATION:Pioneer Museum 2010 Riverside Avenue\, Paso Robles\, CA 93446
UID:e.2488.4128
SEQUENCE:3
DTSTAMP:20260425T202759Z
URL:https://business.pasorobleschamber.com/events/details/paso-robles-chamber-53rd-annual-ag-tour-lighting-up-the-east-05-06-2015-4128
END:VEVENT

END:VCALENDAR
