BEGIN:VCALENDAR
VERSION:2.0
PRODID:-//ChamberMaster//Event Calendar 2.0//EN
METHOD:PUBLISH
X-PUBLISHED-TTL:P3D
REFRESH-INTERVAL:P3D
CALSCALE:GREGORIAN
BEGIN:VEVENT
DTSTART:20160707T150000Z
DTEND:20160707T160000Z
X-MICROSOFT-CDO-ALLDAYEVENT:FALSE
SUMMARY:Paso Robles Chamber of Commerce Membership Orientation
DESCRIPTION:Join us for our 2016 Member Orientation! Come hear from Board Members\, Chamber Staff and CEO\, Gina Fitzpatrick\, regarding the Chamber's business plan\, committees\, ambassador program\, goals for the future and our new website! This is a great opportunity for both new and existing members to learn more about the Paso Robles Chamber of Commerce.
X-ALT-DESC;FMTTYPE=text/html:Join us for our 2016 Member Orientation! Come hear from Board Members\, Chamber Staff and CEO\, Gina Fitzpatrick\, regarding the Chamber&#39\;s business plan\, committees\, ambassador program\, goals for the future and our new website! This is a great opportunity for both new and existing&nbsp\;members to learn more about the Paso Robles Chamber of Commerce.&nbsp\;
LOCATION:Hampton Inn & Suites 212 Alexa Court Paso Robles\, Ca 93446
UID:e.2488.4788
SEQUENCE:3
DTSTAMP:20260424T133328Z
URL:https://business.pasorobleschamber.com/events/details/paso-robles-chamber-of-commerce-membership-orientation-07-07-2016-4788
END:VEVENT

END:VCALENDAR
