BEGIN:VCALENDAR
VERSION:2.0
PRODID:-//ChamberMaster//Event Calendar 2.0//EN
METHOD:PUBLISH
X-PUBLISHED-TTL:P3D
REFRESH-INTERVAL:P3D
CALSCALE:GREGORIAN
BEGIN:VEVENT
DTSTART;VALUE=DATE:20161014
DTEND;VALUE=DATE:20161017
TRANSP:TRANSPARENT
X-MICROSOFT-CDO-ALLDAYEVENT:TRUE
SUMMARY:Paso Robles Harvest Wine Weekend
DESCRIPTION:It's time to be happy! A year's hard work is rewarded with another great harvest in Paso Robles Wine Country! Join the celebration and toast to the 2016 vintage during Harvest Wine Weekend October 14-16. Explore more than 140 harvest activities\, including laid-back barbecues\, ceremonial grape stomps\, exclusive barrel tastings\, mouth-watering food and wine pairings\, live music and so much more! Find a complete list of activities at pasowine.com or on the free Paso Wine iPhone app.
X-ALT-DESC;FMTTYPE=text/html:It&#39\;s time to be happy! A year&#39\;s hard work is rewarded with another great harvest in Paso Robles Wine Country! Join the celebration and toast to the 2016 vintage during Harvest Wine Weekend October 14-16. Explore more than 140 harvest activities\, including laid-back barbecues\, ceremonial grape stomps\, exclusive barrel tastings\, mouth-watering food and wine pairings\, live music and so much more! Find a complete list of activities at pasowine.com or on the free Paso Wine iPhone app.
LOCATION:140+ wineries in Paso Robles
UID:e.2488.5606
SEQUENCE:3
DTSTAMP:20260424T061104Z
URL:https://business.pasorobleschamber.com/events/details/paso-robles-harvest-wine-weekend-5606
END:VEVENT

END:VCALENDAR
