BEGIN:VCALENDAR
VERSION:2.0
PRODID:-//ChamberMaster//Event Calendar 2.0//EN
METHOD:PUBLISH
X-PUBLISHED-TTL:P3D
REFRESH-INTERVAL:P3D
CALSCALE:GREGORIAN
BEGIN:VEVENT
DTSTART:20180224T180000Z
DTEND:20180226T000000Z
X-MICROSOFT-CDO-ALLDAYEVENT:FALSE
SUMMARY:Paso Robles Home\, Garden & Gourmet Expo
DESCRIPTION:The Inspired Home\, Garden and Gourmet event is where you can find professionals to make your Pinterest boards a reality!  At the event\, you can see new products\, and see a POP-UP Living Room courtesy of local companies such as Smitty Built Construction\, Idlers Home\, Browder Painting\, California Cast Stone and more! A POP-UP bold bedroom will also be on display courtesy of Handy Home SLO\, Cal Deals Furniture\, Browder Painting and Chameleon Home.  Stop by and speak to local professionals including general contractors\, flooring experts\, landscapers\, kitchen and bath cabinet companies\, solar energy professionals\, to make your home dreams a reality!\n\n\n\nAlong with these home and gardening experts\, the Home Expo will offer the Taste Buds Chef Competition where using fresh ingredients from Talley Farms Fresh Harvest and Larder Meat Company in a "Chopped" style battle\, the chefs will be judged by a panel of professional judges\, as well as attendees of the home and gourmet expo.\n\nThe Wine and Gourmet Food Garden will offer samples from local wineries and restaurants. Attendees can wine taste for $5\; all proceeds will benefit local non-profit\, The Wellness Kitchen & Resource Center. There will be a variety of live cooking demonstrations and workshops taking place throughout the weekend as well as the Taste Buds Best Chef Competition with nominated chefs\, Casey Walcot of the The Sea Venture\, Doug MacMIllian of Rosa's Restaurant \, Kurt Metkger of Thomas Hill Organics\, Slavic Popovich of The Cracked Crab\, and defending his trophy and name of Best Chef 2017 is Chris Beckett of Fish Gaucho. Chefs will receive a Talley Box of produce and fruits and protein courtesy of Larder Meat Company. A panel of professional judges will oversee the blind arbitrating while the attendees of the Inspired Home Expo can taste and vote for the People's Choice. Chefs will be judged on use of ingredients\, presentation\, taste and originality.
X-ALT-DESC;FMTTYPE=text/html:<p>The Inspired Home\, Garden and Gourmet event is where you can find professionals to make your Pinterest boards a reality! &nbsp\;At the event\, you can see new products\, and see a POP-UP Living Room courtesy of local companies such as Smitty Built Construction\, Idlers Home\, Browder Painting\, California Cast Stone and more! A POP-UP bold bedroom will also be on display courtesy of Handy Home SLO\, Cal Deals Furniture\, Browder Painting and Chameleon Home. &nbsp\;Stop by and speak to local professionals including general contractors\, flooring experts\, landscapers\, kitchen and bath cabinet companies\, solar energy professionals\, to make your home dreams a reality!<br />\n<br />\nAlong with these home and gardening experts\, the Home Expo will offer the Taste Buds Chef Competition where using fresh ingredients from Talley Farms Fresh Harvest and Larder Meat Company in a &ldquo\;Chopped&rdquo\; style battle\, the chefs will be judged by a panel of professional judges\, as well as attendees of the home and gourmet expo.<br />\nThe Wine and Gourmet Food Garden will offer samples from local wineries and restaurants. Attendees can wine taste for $5\; all proceeds will benefit local non-profit\, The Wellness Kitchen &amp\; Resource Center. There will be a variety of live cooking demonstrations and workshops taking place throughout the weekend as well as the Taste Buds Best Chef Competition with nominated chefs\, Casey Walcot of the The Sea Venture\, Doug MacMIllian of Rosa&#39\;s Restaurant&nbsp\;\, Kurt Metkger of Thomas Hill Organics\, Slavic Popovich of The Cracked Crab\, and defending his trophy and name of Best Chef 2017 is Chris Beckett of Fish Gaucho. Chefs will receive a Talley Box of produce and fruits and protein courtesy of Larder Meat Company. A panel of professional judges will oversee the blind arbitrating while the attendees of the Inspired Home Expo can taste and vote for the People&rsquo\;s Choice. Chefs will be judged on use of ingredients\, presentation\, taste and originality.&nbsp\;<br />\n&nbsp\;</p>\n
LOCATION:Paso Robles Event Center 2198 Riverside Ave.\, Paso Robles
UID:e.2488.7976
SEQUENCE:3
DTSTAMP:20260424T080925Z
URL:https://business.pasorobleschamber.com/events/details/paso-robles-home-garden-gourmet-expo-7976
END:VEVENT

END:VCALENDAR
