BEGIN:VCALENDAR
VERSION:2.0
PRODID:-//ChamberMaster//Event Calendar 2.0//EN
METHOD:PUBLISH
X-PUBLISHED-TTL:P3D
REFRESH-INTERVAL:P3D
CALSCALE:GREGORIAN
BEGIN:VEVENT
DTSTART:20240602T210000Z
DTEND:20240603T000000Z
X-MICROSOFT-CDO-ALLDAYEVENT:FALSE
SUMMARY:Paso Robles Pinot & Paella Festival
DESCRIPTION:19th Annual Paso Pinot and Paella Festival at Templeton Park. This event sells fast! Get your tickets at 805tix.com.
X-ALT-DESC;FMTTYPE=text/html:19th Annual Paso Pinot and Paella Festival at Templeton Park. This event sells fast! Get your tickets at 805tix.com.
LOCATION:Templeton Park
UID:e.2488.15308
SEQUENCE:3
DTSTAMP:20260422T194813Z
URL:https://business.pasorobleschamber.com/events/details/paso-robles-pinot-paella-festival-15308
END:VEVENT

END:VCALENDAR
