BEGIN:VCALENDAR
VERSION:2.0
PRODID:-//ChamberMaster//Event Calendar 2.0//EN
METHOD:PUBLISH
X-PUBLISHED-TTL:P3D
REFRESH-INTERVAL:P3D
CALSCALE:GREGORIAN
BEGIN:VEVENT
DTSTART:20180115T193000Z
DTEND:20180115T213000Z
X-MICROSOFT-CDO-ALLDAYEVENT:FALSE
SUMMARY:Paso Robles Republican Women Federated - Monthly Luncheon Meetings with Special Guest Speakers (Please see details)
DESCRIPTION:We are starting the year off right! \n\nWe are honored to have Jon Coupal\, President of the Howard Jarvis Taxpayers Association and sought-after expert\, speaking on taxes and California politics.  Read about HJTA and Mr. Coupal athttps://www.hjta.org/\n\nBring your family\, friends\,spouse/significant other.This is a golden opportunity. Don't miss it!
X-ALT-DESC;FMTTYPE=text/html:<span style="font-family:verdana"><span style="font-size:14px">We are starting the year off right!&nbsp\;<br />\nWe are honored to have <strong>Jon Coupal\, President of the Howard Jarvis Taxpayers Association</strong> and sought-after expert\, speaking on taxes and California politics.&nbsp\; Read about HJTA and Mr. Coupal at<u><span style="color:#1f497d"><a href="https://www.hjta.org/" style="color:rgb(17\, 85\, 204)\;" target="_blank">https</a></span></u><u><span style="color:#1f497d"><a href="https://www.hjta.org/" style="color:rgb(17\, 85\, 204)\;" target="_blank">://www.hjta.org/</a></span></u></span></span><br />\n<span style="font-size:14px"><em style="font-family:verdana\; font-size:14px">Bring your family\, friends\,spouse/significant other.This is a gol</em><em style="font-family:verdana\; font-size:14px">den opportunity. Don&rsquo\;t miss it!</em></span><br />\n&nbsp\;
LOCATION:The Paso Robles Inn\, Ballroom 1103 Spring Street Paso Robles\, CA 93446
UID:e.2488.7250
SEQUENCE:3
DTSTAMP:20260422T085619Z
URL:https://business.pasorobleschamber.com/events/details/paso-robles-republican-women-federated-monthly-luncheon-meetings-with-special-guest-speakers-please-see-details-7250
END:VEVENT

END:VCALENDAR
