BEGIN:VCALENDAR
VERSION:2.0
PRODID:-//ChamberMaster//Event Calendar 2.0//EN
METHOD:PUBLISH
X-PUBLISHED-TTL:P3D
REFRESH-INTERVAL:P3D
CALSCALE:GREGORIAN
BEGIN:VEVENT
DTSTART:20180615T183000Z
DTEND:20180615T203000Z
X-MICROSOFT-CDO-ALLDAYEVENT:FALSE
SUMMARY:PASO ROBLES REPUBLICAN WOMEN--Monthly Luncheon Meetings with Special Guest Speakers
DESCRIPTION:Paso Robles Republican Women We are starting the year off right! \n\nWe are honored to have Jon Coupal\, President of the Howard Jarvis Taxpayers Association and sought-after expert\, speaking on taxes and California politics.  Read about HJTA and Mr. Coupal athttps://www.hjta.org/\n\nBring your family\, friends\,spouse/significant other.This is a golden opportunity. Don't miss it!
X-ALT-DESC;FMTTYPE=text/html:<span style="font-family:verdana"><span style="font-size:14px">&nbsp\; &nbsp\; &nbsp\; &nbsp\; &nbsp\; &nbsp\; &nbsp\; Paso Robles Republican Women We are starting the year off right!&nbsp\;<br />\nWe are honored to have&nbsp\;<strong>Jon Coupal\, President of the Howard Jarvis Taxpayers Association</strong>&nbsp\;and sought-after expert\, speaking on taxes and California politics.&nbsp\; Read about HJTA and Mr. Coupal at<u><span style="color:rgb(31\, 73\, 125)"><a href="https://www.hjta.org/" style="color: rgb(17\, 85\, 204)\;" target="_blank">https</a></span></u><u><span style="color:rgb(31\, 73\, 125)"><a href="https://www.hjta.org/" style="color: rgb(17\, 85\, 204)\;" target="_blank">://www.hjta.org/</a></span></u></span></span><br />\n<span style="font-size:14px"><em>Bring your family\, friends\,spouse/significant other.This is a gol</em><em>den opportunity. Don&rsquo\;t miss it!</em></span>
LOCATION:Paso Robles Inn\, Ballroom 1103 Spring St. Paso Robles\, CA 93446 Across from the downtown city park
UID:e.2488.7519
SEQUENCE:3
DTSTAMP:20260421T165135Z
URL:https://business.pasorobleschamber.com/events/details/paso-robles-republican-women-monthly-luncheon-meetings-with-special-guest-speakers-06-15-2018-7519
END:VEVENT

END:VCALENDAR
