BEGIN:VCALENDAR
VERSION:2.0
PRODID:-//ChamberMaster//Event Calendar 2.0//EN
METHOD:PUBLISH
X-PUBLISHED-TTL:P3D
REFRESH-INTERVAL:P3D
CALSCALE:GREGORIAN
BEGIN:VEVENT
DTSTART:20180518T180000Z
DTEND:20180520T120000Z
X-MICROSOFT-CDO-ALLDAYEVENT:FALSE
SUMMARY:Paso Robles Wine Festival
DESCRIPTION:Come on over and help us enjoy the Paso Robles Wine Festival! We're ready to toast a glass and listen to music by 3 For the Road and we want you to join us.\n\nLive music Saturday & Sunday 1-4 pm.\n\nWinery tours daily offered at 11am and 1pm.\n\nTake advantage of our weekend case specials.\n\nWe will also have complimentary appetizers available throughout the weekend.
X-ALT-DESC;FMTTYPE=text/html:<h2 style="text-align:center"><span style="font-family:times new roman">Come on over and help us enjoy the Paso Robles Wine Festival! We&#39\;re ready to toast a glass and listen to music by 3 For the Road and we want you to join us.</span></h2>\n\n<h2 style="text-align:center"><span style="font-family:times new roman">Live music Saturday &amp\; Sunday 1-4 pm.</span></h2>\n\n<h2 style="text-align:center"><span style="font-family:times new roman">Winery tours daily offered at 11am and 1pm.</span></h2>\n\n<h2 style="text-align:center"><span style="font-family:times new roman">Take advantage of our weekend case specials.</span></h2>\n\n<h2 style="text-align:center"><span style="font-family:times new roman">We will also have complimentary appetizers available throughout the weekend.&nbsp\;</span></h2>\n
LOCATION:Pear Valley Vineyards 4900 Union Rd Paso Robles\, CA 93446
UID:e.2488.7098
SEQUENCE:3
DTSTAMP:20260421T235144Z
URL:https://business.pasorobleschamber.com/events/details/paso-robles-wine-festival-7098
END:VEVENT

END:VCALENDAR
