BEGIN:VCALENDAR
VERSION:2.0
PRODID:-//ChamberMaster//Event Calendar 2.0//EN
METHOD:PUBLISH
X-PUBLISHED-TTL:P3D
REFRESH-INTERVAL:P3D
CALSCALE:GREGORIAN
BEGIN:VEVENT
DTSTART;VALUE=DATE:20260515
DTEND;VALUE=DATE:20260518
TRANSP:TRANSPARENT
X-MICROSOFT-CDO-ALLDAYEVENT:TRUE
SUMMARY:Paso Wine Festival
DESCRIPTION:Enjoy the best that Paso Robles Wine Country has to offer across one weekend full of incredible wine events. From winemaker dinners and an event all about food and wine pairings\, brunch-time bubbles and of course the Grand Tasting featuring 100+ wineries\, you don't want to miss this once-a-year experience.
X-ALT-DESC;FMTTYPE=text/html:Enjoy the best that Paso Robles Wine Country has to offer across one weekend full of incredible wine events. From winemaker dinners and an event all about food and wine pairings\, brunch-time bubbles and of course the Grand Tasting featuring 100+ wineries\, you don&rsquo\;t want to miss this once-a-year experience.
LOCATION:Paso Robles Event Center
UID:e.2488.20001
SEQUENCE:3
DTSTAMP:20260421T003133Z
URL:https://business.pasorobleschamber.com/events/details/paso-wine-festival-20001
END:VEVENT

END:VCALENDAR
