BEGIN:VCALENDAR
VERSION:2.0
PRODID:-//ChamberMaster//Event Calendar 2.0//EN
METHOD:PUBLISH
X-PUBLISHED-TTL:P3D
REFRESH-INTERVAL:P3D
CALSCALE:GREGORIAN
BEGIN:VEVENT
DTSTART:20160605T190000Z
DTEND:20160605T210000Z
X-MICROSOFT-CDO-ALLDAYEVENT:FALSE
SUMMARY:Pizza on the Patio
DESCRIPTION:Come relax in the vineyard while enjoying our new releases and fresh pizza from our Italian pizza oven!\n\nWe will be serving pizza from 12 to 2 pm. $15/pp includes a select wine tasting and artisan cheese pairing. $10/pp for Wine Club Members includes a special sampling and one glass of wine from the special selection of the day.
X-ALT-DESC;FMTTYPE=text/html:<p>Come relax in the vineyard while enjoying our new releases and fresh pizza from our Italian pizza oven!</p>\n\n<p>We will be serving pizza from 12 to 2 pm. $15/pp includes a select wine tasting and artisan cheese pairing. $10/pp for Wine Club Members includes a special sampling and one glass of wine from the special selection of the day.</p>\n
LOCATION:Mitchella Vineyard & Winery 2525 Mitchell Ranch Way Paso Robles\, CA 93446
UID:e.2488.4689
SEQUENCE:3
DTSTAMP:20260424T223151Z
URL:https://business.pasorobleschamber.com/events/details/pizza-on-the-patio-06-05-2016-4689
END:VEVENT

END:VCALENDAR
