BEGIN:VCALENDAR
VERSION:2.0
PRODID:-//ChamberMaster//Event Calendar 2.0//EN
METHOD:PUBLISH
X-PUBLISHED-TTL:P3D
REFRESH-INTERVAL:P3D
CALSCALE:GREGORIAN
BEGIN:VEVENT
DTSTART:20160703T190000Z
DTEND:20160703T210000Z
X-MICROSOFT-CDO-ALLDAYEVENT:FALSE
SUMMARY:Pizza on the Patio
DESCRIPTION:Come relax in the vineyard while enjoying our new releases and fresh pizza from our Italian pizza oven!\n\nWe will be serving pizza from 12 to 2 pm. $15/pp includes a select wine tasting and artisan cheese pairing. $10/pp for Wine Club Members includes a special sampling and one glass of wine from the special selection of the day.\n\nFlavors will include:\n\nChile Rellano with Poblano\, Tomato\, Red Onion\, over Queso\, and topped with Mexican four Cheese Blend\n\nSteak with Blue Cheese and Caramelized Onion\n\nGarden Pizza with Roasted Garlic Alfredo\, topped with Italian Three Blend cheese with Arugula\, Bell Pepper\, Red Onion\, Artichoke\, Heirloom Tomato\, Mushrooms\, and Olives
X-ALT-DESC;FMTTYPE=text/html:<p>Come relax in the vineyard while enjoying our new releases and fresh pizza from our Italian pizza oven!</p>\n\n<p>We will be serving pizza from 12 to 2 pm. $15/pp includes a select wine tasting and artisan cheese pairing. $10/pp for Wine Club Members includes a special sampling and one glass of wine from the special selection of the day.</p>\n\n<p>Flavors will include:</p>\n\n<p style="text-align:center"><em>Chile Rellano with Poblano\, Tomato\, Red Onion\, over Queso\, and topped with Mexican four Cheese Blend</em></p>\n\n<p style="text-align:center"><em>Steak with Blue Cheese and Caramelized Onion</em></p>\n\n<p style="text-align:center"><em>Garden Pizza with Roasted Garlic Alfredo\, topped with Italian Three Blend cheese with Arugula\, Bell Pepper\, Red Onion\, Artichoke\, Heirloom Tomato\, Mushrooms\, and Olives&nbsp\;</em></p>\n
LOCATION:Mitchella Vineyard & Winery 2525 Mitchell Ranch Way Paso Robles\, CA 93446
UID:e.2488.4690
SEQUENCE:3
DTSTAMP:20260424T130306Z
URL:https://business.pasorobleschamber.com/events/details/pizza-on-the-patio-07-03-2016-4690
END:VEVENT

END:VCALENDAR
