BEGIN:VCALENDAR
VERSION:2.0
PRODID:-//ChamberMaster//Event Calendar 2.0//EN
METHOD:PUBLISH
X-PUBLISHED-TTL:P3D
REFRESH-INTERVAL:P3D
CALSCALE:GREGORIAN
BEGIN:VEVENT
DTSTART:20240519T210000Z
DTEND:20240519T220000Z
X-MICROSOFT-CDO-ALLDAYEVENT:FALSE
SUMMARY:Poetic Prints Poetry Reading
DESCRIPTION:Hear the poetry that inspired the art featured in our Poetic Prints exhibition. Join us for a free Poetry Reading featuring local poets. After the reading\, the Printmakers featured in the exhibition will be discussing their processes.
X-ALT-DESC;FMTTYPE=text/html:Hear the poetry that inspired the art featured in our Poetic Prints exhibition. Join us for a free Poetry Reading featuring local poets. After the reading\, the Printmakers featured in the exhibition will be discussing their processes.
LOCATION:Studios on the Park 1130 Pine Street
UID:e.2488.15449
SEQUENCE:3
DTSTAMP:20260422T182022Z
URL:https://business.pasorobleschamber.com/events/details/poetic-prints-poetry-reading-15449
END:VEVENT

END:VCALENDAR
